BEGIN:VCALENDAR
VERSION:2.0
PRODID:-//wp-events-plugin.com//7.2.3.1//EN
TZID:Australia/Adelaide
X-WR-TIMEZONE:Australia/Adelaide
BEGIN:VEVENT
UID:787@ais.sa.edu.au
DTSTART;TZID=Australia/Adelaide:20240315T090000
DTEND;TZID=Australia/Adelaide:20240315T160000
DTSTAMP:20240229T234910Z
URL:https://www.ais.sa.edu.au/events/youth-mental-health-first-aid-trainin
 g-term-1-blended/
SUMMARY:Youth Mental Health First Aid Training (Term 1 Blended)
DESCRIPTION:Being able to notice\, support and respond to students with
 mental health issues is a critical skill for educators today. The Youth
 Mental Health First Aid training teaches the skills you need to help
 someone you are concerned about and is suitable for educators who work with
 adolescents.\n\nMental Health First Aid is early intervention for mental
 health problems. It teaches people to recognise the signs and symptoms
 which suggest a potential mental health problem and how to refer
 appropriately. It is not designed as a prevention program nor is it a
 mental health promotion program\, although course participants may
 experience beneficial mental health effects from completing mental health
 first aid training.\n\nThe course addresses specific categories of mental
 ill-health such as depression\, anxiety\, eating disorders\, substance
 misuse\, psychosis and how to deal with crises in young people. It includes
 how to recognise and assist an adolescent who may be experiencing a mental
 health problem or mental health crisis until appropriate professional help
 is received or the crisis resolves\, using a practical\, evidence-based
 action plan.\n\nThe cost of the course includes access to the online
 course\, face to face training (one day)\, a copy of the Youth Mental
 Health First Aid Manual and a certificate of accreditation for those who
 complete all the required training.\n\nAudience: School leaders\,
 wellbeing leaders and educators who support student mental
 health\n\nDelivery mode: online and face-to-face\n\nPresenter: Vince
 Riviera\, Clinical Consultant Wellbeing Systems\n\nPrice: $210 (GST
 inclusive)\n\nBookings for this event close at 5.00pm on 01/03/2024.\n\nSee
 the AISSA Professional Learning Terms and Conditions for the full
 registration terms and conditions including the cancellation policy.\n\nFor
 registration enquiries please contact Rae Dawkins.\n\n&nbsp\;
CATEGORIES:Professional Learning,Wellbeing and Inclusion
LOCATION:Association of Independent Schools of SA\, 128 Greenhill Road\,
 Unley\, SA\, 5061\, Australia
GEO:-34.9601578;138.60864300000003
X-APPLE-STRUCTURED-LOCATION;VALUE=URI;X-ADDRESS=128 Greenhill Road\,
 Unley\, SA\, 5061\, Australia;X-APPLE-RADIUS=100;X-TITLE=Association of
 Independent Schools of SA:geo:-34.9601578,138.60864300000003
END:VEVENT
BEGIN:VTIMEZONE
TZID:Australia/Adelaide
X-LIC-LOCATION:Australia/Adelaide
BEGIN:DAYLIGHT
DTSTART:20231001T030000
TZOFFSETFROM:+0930
TZOFFSETTO:+1030
TZNAME:ACDT
END:DAYLIGHT
END:VTIMEZONE
END:VCALENDAR