BEGIN:VCALENDAR
VERSION:2.0
PRODID:-//wp-events-plugin.com//7.2.3.1//EN
TZID:Australia/Adelaide
X-WR-TIMEZONE:Australia/Adelaide
BEGIN:VEVENT
UID:860@ais.sa.edu.au
DTSTART;TZID=Australia/Adelaide:20250306T090000
DTEND;TZID=Australia/Adelaide:20250306T160000
DTSTAMP:20250303T050454Z
URL:https://www.ais.sa.edu.au/events/youth-mental-health-first-aid-blended
 -course-term-1/
SUMMARY:Youth Mental Health First Aid - Blended Course Term 1
DESCRIPTION:Being able to notice\, respond and support students with mental
 health issues is a critical skill for educators today. This blended Youth
 Mental Health First Aid (YMHFA) training will teach you the critical skills
 you need to help an adolescent you are concerned about. \n\nDesigned for:
 Heads of Schools\, Secondary Teachers and Wellbeing Leaders.\n\nYour
 commitment: 7 contact hours plus prior online component.\n\nAITSL
 Professional Standards for Teachers: Focus areas 1.1\, 6.2\, 6.3\, 6.4\,
 7.1 and 7.4\n\nDelivery mode: 1 x face-to-face workshop plus prior online
 component.\n\nPresented by: Vincent Riviere\, Mental Health
 Specialist.\n\nPrice: $210.00 per person (GST inclusive).\n\nDate: 6 March
 2025\, 9:00am-4:00pm.\n\nLocation: AISSA\, 128 Greenhill Road\, Unley SA
 5061.\n\nRegistration closes: 27 February 2025 at 5:00pm.\n\nProgram
 Overview: Mental Health First Aid is early intervention for mental health
 problems. It teaches people to recognise the signs and symptoms\, which
 suggest a potential mental health problem and how to refer appropriately.
 This course teaches specific categories of mental ill-health such as
 depression\, anxiety\, eating disorders\, substance misuse\, psychosis and
 how to deal with crises in young people.\n\nIt includes how to recognise
 and assist an adolescent who may be experiencing a mental health problem or
 mental health crisis until appropriate professional help is received or the
 crisis resolves\, using a practical\, evidence-based action
 plan.\n\nVincent Riviere will partner with the AISSA to lead this work.
 Vincent has worked in the Child and Adolescent Mental Health and Wellbeing
 field for the past 18 years\, including in a variety of acute clinical
 settings which include non-government\, government\, juvenile justice\,
 health\, employment assistance programs and both secondary and primary
 school sectors. Vincent is also an accredited Principal Master Mental
 Health First Aid facilitator and an industry lecturer within the space of
 Youth Work\, Mental Health\, Child and Family Intervention and Community
 Services. He also works with corporate teams\, school leadership\, staff
 and school wellbeing teams within consultancy to support best practice in
 terms of support\, processes\, procedures\, referral and treatment of
 students\, families and staff suffering from Mental Health
 difficulties. \n\nEnquiries: please contact Rae Dawkins.\n\nTerms and
 Conditions: Registration for this event will incur the fee detailed above.
 This fee will be invoiced after the event and is payable unless written
 notice of cancellation is received seven or more days prior to the
 event.  See the AISSA’s Professional Learning Terms and Conditions for
 the full registration terms and conditions including the cancellation
 policy.\n\n&nbsp\;
CATEGORIES:Professional Learning,Wellbeing and Inclusion
LOCATION:Association of Independent Schools of SA\, 128 Greenhill Road\,
 Unley\, SA\, 5061\, Australia
GEO:-34.9601578;138.60864300000003
X-APPLE-STRUCTURED-LOCATION;VALUE=URI;X-ADDRESS=128 Greenhill Road\,
 Unley\, SA\, 5061\, Australia;X-APPLE-RADIUS=100;X-TITLE=Association of
 Independent Schools of SA:geo:-34.9601578,138.60864300000003
END:VEVENT
BEGIN:VTIMEZONE
TZID:Australia/Adelaide
X-LIC-LOCATION:Australia/Adelaide
BEGIN:DAYLIGHT
DTSTART:20241006T030000
TZOFFSETFROM:+0930
TZOFFSETTO:+1030
TZNAME:ACDT
END:DAYLIGHT
END:VTIMEZONE
END:VCALENDAR