BEGIN:VCALENDAR
VERSION:2.0
PRODID:-//wp-events-plugin.com//7.2.3.1//EN
TZID:Australia/Adelaide
X-WR-TIMEZONE:Australia/Adelaide
BEGIN:VEVENT
UID:634@ais.sa.edu.au
DTSTART;TZID=Australia/Adelaide:20221018T090000
DTEND;TZID=Australia/Adelaide:20221018T120000
DTSTAMP:20220920T015237Z
URL:https://www.ais.sa.edu.au/events/working-reconciliation-educational-co
 ntext/
SUMMARY:Working with Reconciliation in your Educational Context
DESCRIPTION:This event is now fully booked.\n\n&nbsp\;\n\nThis workshop is
 designed specifically for teachers and educators who are inspired to learn
 more about reconciliation. The workshop offers strategies to make authentic
 connections between Aboriginal and Torres Strait Islander histories and
 cultures and the ACARA curriculum\, the EYLF and the AITSL Professional
 standards. You will be provided with a range of resources to support you
 embed reconciliation into staff professional learning and to link
 Aboriginal and Torres Strait Islander histories\, cultures and perspectives
 into the curriculum in meaningful ways.\n\nAs educators\, we are crucial in
 supporting young Australians appreciate the achievements of our First
 Nations Peoples and helping them understand that reconciliation is an
 important part of our journey as individuals\, as a community and as a
 nation. As part of the morning\, you will hear from guest speakers who will
 share transformative school-based practices in reconciliation. Through this
 professional learning\, you will have the opportunity to think more deeply
 about what reconciliation means to you and consider how you can implement
 change within your context.\n\nThis session will be led by Reconciliation
 South Australia and supported by guest speakers from
 schools.\n\nPresenters:  Natalie Gentle (Reconciliation South Australia)
 and Kate Mount (AISSA)\n\nTarget Audience:  all staff\n\nDelivery Mode: 
 face-to-face\n\nFor registration enquiries\, please contact Alison Hollis.
CATEGORIES:Building Culturally Responsive Schools,Professional Learning
LOCATION:Association of Independent Schools of SA\, 128 Greenhill Road\,
 Unley\, SA\, 5061\, Australia
GEO:-34.9601578;138.60864300000003
X-APPLE-STRUCTURED-LOCATION;VALUE=URI;X-ADDRESS=128 Greenhill Road\,
 Unley\, SA\, 5061\, Australia;X-APPLE-RADIUS=100;X-TITLE=Association of
 Independent Schools of SA:geo:-34.9601578,138.60864300000003
END:VEVENT
BEGIN:VTIMEZONE
TZID:Australia/Adelaide
X-LIC-LOCATION:Australia/Adelaide
BEGIN:DAYLIGHT
DTSTART:20221002T030000
TZOFFSETFROM:+0930
TZOFFSETTO:+1030
TZNAME:ACDT
END:DAYLIGHT
END:VTIMEZONE
END:VCALENDAR