BEGIN:VCALENDAR
VERSION:2.0
PRODID:-//wp-events-plugin.com//7.2.3.1//EN
TZID:Australia/Adelaide
X-WR-TIMEZONE:Australia/Adelaide
BEGIN:VEVENT
UID:965@ais.sa.edu.au
DTSTART;TZID=Australia/Adelaide:20260526T093000
DTEND;TZID=Australia/Adelaide:20260526T150000
DTSTAMP:20260304T064050Z
URL:https://www.ais.sa.edu.au/events/words-we-walk-with-rivers-we-sit-besi
 de-healing-through-stories-in-our-language-connecting-with-country-knowing
 -differences-in-practice/
SUMMARY:Words We Walk With\, Rivers We Sit Beside. Healing Through Stories
 in Our Language\, Connecting With Country\, Knowing Differences in Practice
DESCRIPTION:Discover how to respectfully embed Aboriginal and Torres
 Strait Islander histories and cultures in your teaching –
 without fear\, with confidence. This workshop empowers ELC\, primary and
 secondary educators to begin this journey with authenticity and culturally
 safer practical strategies for meaningful inclusion.\n\nYour commitment:
 5.5 contact hours plus any required reading.\n\nAITSL Professional
 Standards for Teachers: Focus areas 1.4\, 2.4\, 3.4\, 4.4\, 6.4 and
 7.4\n\nDelivery mode: 1 x face-to-face session.\n\nPresented by: Jade
 Brook\, Third Camp\, Jade is a proud Kaurna\, Nharangga\, Ngarrindjeri
 woman.\n\nPrice: $370.00 per person (GST inclusive).\n\nKey Dates: 26 May
 2026\, 9:30am-3:00pm\n\nLocation: AISSA\, 128 Greenhill Road\, Unley SA
 5061.\n\nRegistration closes: 19 May 2026 at 5:00pm.\n\nProgram Overview:
 Join Jade Brook for a full-day workshop that blends immersive Connection
 to Country\, storytelling\, activities and open conversations. Engage
 to deepen understanding and confidence in embedding Aboriginal and
 Torres Strait Islander cultures\, languages and perspectives\,
 using appropriate resources and approaches. Walk away feeling empowered
 to create meaningful changes in your learning environments\, with tools and
 courage to do so authentically. Designed for primary and
 secondary teachers\, early childhood educators and curriculum leaders.
 This transformative learning opportunity should not be missed. \n\nProgram
 Lead: please contact Karen Schoff.\n\nTerms and Conditions: Registration
 for this event will incur the fee detailed above. This fee will be invoiced
 after the event and is payable unless written notice of cancellation is
 received seven or more days prior to the event.  See the AISSA’s
 Professional Learning Terms and Conditions for the full registration terms
 and conditions including the cancellation policy.
CATEGORIES:Building Culturally Responsive Schools,Curriculum, Pedagogy and
 Assessment,Professional Learning,Wellbeing and Inclusion
LOCATION:Association of Independent Schools of SA\, 128 Greenhill Road\,
 Unley\, SA\, 5061\, Australia
GEO:-34.9601578;138.60864300000003
X-APPLE-STRUCTURED-LOCATION;VALUE=URI;X-ADDRESS=128 Greenhill Road\,
 Unley\, SA\, 5061\, Australia;X-APPLE-RADIUS=100;X-TITLE=Association of
 Independent Schools of SA:geo:-34.9601578,138.60864300000003
END:VEVENT
BEGIN:VTIMEZONE
TZID:Australia/Adelaide
X-LIC-LOCATION:Australia/Adelaide
BEGIN:STANDARD
DTSTART:20260405T020000
TZOFFSETFROM:+1030
TZOFFSETTO:+0930
TZNAME:ACST
END:STANDARD
END:VTIMEZONE
END:VCALENDAR