BEGIN:VCALENDAR
VERSION:2.0
PRODID:-//wp-events-plugin.com//7.2.3.1//EN
TZID:Australia/Adelaide
X-WR-TIMEZONE:Australia/Adelaide
BEGIN:VEVENT
UID:798@ais.sa.edu.au
DTSTART;TZID=Australia/Adelaide:20240322T090000
DTEND;TZID=Australia/Adelaide:20240322T153000
DTSTAMP:20240319T230709Z
URL:https://www.ais.sa.edu.au/events/women-in-leadership-3/
SUMMARY:Women in Leadership
DESCRIPTION:The Women in Leadership program is an opportunity for women in
 the Independent sector to connect with and learn from other successful
 women\, from both inside and outside of education\, share effective
 practices\, lessons learned and strategies for encouraging other women into
 leadership.\n\nIt will also provide the opportunity to work with a
 professional companion\, an experienced school leader\, throughout the
 duration of the program.\n\nThe program will be presented by Dr Barbara
 Watterston\, CEO of the Australian Council of Educational Leadership (ACEL)
 and respected Australian author\, leadership researcher and professional
 learning facilitator.\n\nDay 1: Why a focus on women in leadership?\n\nDay
 2: Crafting leadership identity - who am I as a leader?\n\nDay 3: Sharing
 experiences and learnings\n\nProfessional companioning and work shadowing
 experiences will occur between days 2 and 3.\n\nThis is a series.  By
 registering you are committing to attending the following
 sessions:\n\n22/03/2024\, 9.00am-3.30pm\n11/06/2024\,
 9.00am-3.30pm\n17/09/2024\, 9.00am-3.30pm\n\nAudience: Women Leaders from
 all levels in Independent schools ELC – Year 12\n\nDelivery mode:
 face-to-face\n\nPresenter: Dr Barbara Watterston\, CEO\, ACEL\n\nPrice:
 $1\,230.00 (GST inclusive)\n\nBookings for this series close at 5.00pm on
 08/03/2024.\n\nSee the AISSA Professional Learning Terms and Conditions
 for the full registration terms and conditions including the cancellation
 policy.\n\nFor registration enquiries please contact Rae
 Dawkins.\n\n&nbsp\;
CATEGORIES:Leadership and Coaching,Professional Learning
LOCATION:Association of Independent Schools of SA\, 128 Greenhill Road\,
 Unley\, SA\, 5061\, Australia
GEO:-34.9601578;138.60864300000003
X-APPLE-STRUCTURED-LOCATION;VALUE=URI;X-ADDRESS=128 Greenhill Road\,
 Unley\, SA\, 5061\, Australia;X-APPLE-RADIUS=100;X-TITLE=Association of
 Independent Schools of SA:geo:-34.9601578,138.60864300000003
END:VEVENT
BEGIN:VTIMEZONE
TZID:Australia/Adelaide
X-LIC-LOCATION:Australia/Adelaide
BEGIN:DAYLIGHT
DTSTART:20231001T030000
TZOFFSETFROM:+0930
TZOFFSETTO:+1030
TZNAME:ACDT
END:DAYLIGHT
END:VTIMEZONE
END:VCALENDAR