BEGIN:VCALENDAR
VERSION:2.0
PRODID:-//wp-events-plugin.com//7.2.3.1//EN
TZID:Australia/Adelaide
X-WR-TIMEZONE:Australia/Adelaide
BEGIN:VEVENT
UID:966@ais.sa.edu.au
DTSTART;TZID=Australia/Adelaide:20260513T093000
DTEND;TZID=Australia/Adelaide:20260513T153000
DTSTAMP:20260225T014000Z
URL:https://www.ais.sa.edu.au/events/where-play-meets-curriculum-finding-c
 ommon-ground/
SUMMARY:Where Play Meets Curriculum: Finding Common Ground
DESCRIPTION:Ignite creativity and drive impact for all children in the
 early years of schooling. This series is designed to spark creative
 thinking and bold action among curriculum leaders and teachers from
 Foundation to Year 2. Participants will challenge assumptions about play
 and re-imagine curriculum to support the whole child and build a
 compelling case for change. \n\nYour commitment: 18 contact hours plus any
 required reading.\n\nAITSL Professional Standards for Teachers: Focus
 areas 1.1\, 1.2\, 2.1\, 2.5\, 3.4 and 6.3\n\nDelivery mode: 3 x
 face-to-face workshops.\n\nPresented by: \nMaria Taylor\, Educational
 Consultant\, Outside the Box Learning\nLibby Worrell\, Senior Educational
 Consultant\, AISSA\n\nPrice: $580.00 per person (GST inclusive).\n\nKey
 Dates: By registering for this series\, you are committing to attend the
 following sessions:\n\n13 May 2026\, 9:30am-3:30pm\n19 August 2026\,
 9:30am-3:30pm\n12 November 2026\, 9:30am-3:30pm\n\nLocation: AISSA\, 128
 Greenhill Road\, Unley SA 5061.\n\nRegistration closes: 6 May 2026 at
 5:00pm.\n\nProgram Overview: This series offers a blueprint for creating
 safe\, inclusive\, and creative environments where children
 can realise their true potential. Evidence-based research\, combined with
 practical\, hands-on strategies\, empowers teachers to move from theory to
 action and strengthen alignment between early learning and the
 primary years. Participants will explore the intersection of environment\,
 playful pedagogy\, and curriculum\, to create future-ready learning spaces
 where play and curriculum find a common ground.\n\nGrounded in the Early
 Years Learning Framework and the Australian Curriculum\, participants will
 explore:\n\n 	environments that innovate and transform\n 	playful pedagogy
 – what does it mean to be play literate?\n 	curriculum – teaching for
 exceptional outcomes.\n\nProgram Lead: please contact Libby
 Worrell.\n\nTerms and Conditions: Registration for this event will incur
 the fee detailed above. This fee will be invoiced after the event and is
 payable unless written notice of cancellation is received seven or more
 days prior to the event.  See the AISSA’s Professional Learning Terms
 and Conditions for the full registration terms and conditions including
 the cancellation policy.
CATEGORIES:Curriculum, Pedagogy and Assessment,Early Childhood Education
 and Care,Professional Learning,Wellbeing and Inclusion
LOCATION:Association of Independent Schools of SA\, 128 Greenhill Road\,
 Unley\, SA\, 5061\, Australia
GEO:-34.9601578;138.60864300000003
X-APPLE-STRUCTURED-LOCATION;VALUE=URI;X-ADDRESS=128 Greenhill Road\,
 Unley\, SA\, 5061\, Australia;X-APPLE-RADIUS=100;X-TITLE=Association of
 Independent Schools of SA:geo:-34.9601578,138.60864300000003
END:VEVENT
BEGIN:VTIMEZONE
TZID:Australia/Adelaide
X-LIC-LOCATION:Australia/Adelaide
BEGIN:STANDARD
DTSTART:20260405T020000
TZOFFSETFROM:+1030
TZOFFSETTO:+0930
TZNAME:ACST
END:STANDARD
END:VTIMEZONE
END:VCALENDAR