BEGIN:VCALENDAR
VERSION:2.0
PRODID:-//wp-events-plugin.com//7.2.3.1//EN
TZID:Australia/Adelaide
X-WR-TIMEZONE:Australia/Adelaide
BEGIN:VEVENT
UID:712@ais.sa.edu.au
DTSTART;TZID=Australia/Adelaide:20230831T190000
DTEND;TZID=Australia/Adelaide:20230831T203000
DTSTAMP:20230830T234630Z
URL:https://www.ais.sa.edu.au/events/what-does-it-mean-to-be-on-a-school-b
 oard/
SUMMARY:What Does it Mean to be on a School Board?
DESCRIPTION:This workshop is designed for those who are new to the school
 board. It will focus on good governance practices including:\n\n 	the
 particular responsibilities for school board members\n 	roles and
 responsibilities including legal\, compliance and fiduciary
 responsibilities and\n 	what it means to be an effective board member
 regarding participation\, relationships\, confidentiality and meeting
 procedures.\n\nDavid Spear is a Partner and Director of VUCA\,  a boutique
 advisory firm which helps organisations deal with critical challenges -
 particularly volatility\, uncertainty\, complexity and ambiguity. David
 Spear was previously the State Director of the Australian Institute of
 Company Directors SA/NT and is a 2013 alumnus of the prestigious Harvard
 Business School Governance Program.\n\nAudience: new school board
 members\n\nDelivery mode: online\n\nPresenter: David Spear\, Director\,
 VUCA\n\nFor registration enquiries please contact Rae Dawkins.\n\nA Zoom
 link will be sent closer to the event.\n\n&nbsp\;
CATEGORIES:Governance,Leadership and Coaching,Professional Learning
END:VEVENT
BEGIN:VTIMEZONE
TZID:Australia/Adelaide
X-LIC-LOCATION:Australia/Adelaide
BEGIN:STANDARD
DTSTART:20230402T020000
TZOFFSETFROM:+1030
TZOFFSETTO:+0930
TZNAME:ACST
END:STANDARD
END:VTIMEZONE
END:VCALENDAR