BEGIN:VCALENDAR
VERSION:2.0
PRODID:-//wp-events-plugin.com//7.2.3.1//EN
TZID:Australia/Adelaide
X-WR-TIMEZONE:Australia/Adelaide
BEGIN:VEVENT
UID:487@ais.sa.edu.au
DTSTART;TZID=Australia/Adelaide:20210309T090000
DTEND;TZID=Australia/Adelaide:20210309T140000
DTSTAMP:20210302T002704Z
URL:https://www.ais.sa.edu.au/events/vet-vl-pd-network-day-9-march-2021/
SUMMARY:VET & VL PD & Network Day - 9 March 2021
DESCRIPTION:Please click here to view the Agenda for the day.\n\nTeachers
 and staff in schools who have a role supporting the post-secondary
 transition pathway of students into further education training and/or
 employment\, will engage in a range of professional learning and networking
 activities that will enhance and update their knowledge and understanding
 of the vocational education and training sector.\n\nCore foci\n\nAITSL
 Australian Professional Standards for Teachers\n• 6.2 Engage in
 professional learning and improve practice\n• 6.3 Engage with colleagues
 and improve practice\n• 6.4 Apply professional learning and improve
 student learning\n• 7.4 Engage with professional teaching networks and
 broader communities\n\nTarget audience: VET teachers / Coordinators /
 Workplace Learning / Career Counsellors\n\nDelivery mode: face to
 face\n\nIMPORTANT NOTICE: \n\nDue to current COVID-19 restrictions the
 AISSA is required to enforce set limits on the number of attendees for
 this event based on social distancing and maximum density rules.  To
 secure your place please complete the registration as attendance at the
 AISSA office without a confirmed place may result in being turned
 away if the event is at capacity.\n\nFor registration enquiries please
 contact Rae Dawkins.\n\nThere is no on-site parking available.  For
 parking options please refer to the parking map.  Tram stop #1 Greenhill
 Road is a 6-minute walk away
CATEGORIES:Vocational Education &amp; Training
LOCATION:Association of Independent Schools of SA\, 128 Greenhill Road\,
 Unley\, SA\, 5061\, Australia
GEO:-34.9601578;138.60864300000003
X-APPLE-STRUCTURED-LOCATION;VALUE=URI;X-ADDRESS=128 Greenhill Road\,
 Unley\, SA\, 5061\, Australia;X-APPLE-RADIUS=100;X-TITLE=Association of
 Independent Schools of SA:geo:-34.9601578,138.60864300000003
END:VEVENT
BEGIN:VTIMEZONE
TZID:Australia/Adelaide
X-LIC-LOCATION:Australia/Adelaide
BEGIN:DAYLIGHT
DTSTART:20201004T030000
TZOFFSETFROM:+0930
TZOFFSETTO:+1030
TZNAME:ACDT
END:DAYLIGHT
END:VTIMEZONE
END:VCALENDAR