BEGIN:VCALENDAR
VERSION:2.0
PRODID:-//wp-events-plugin.com//7.2.3.1//EN
TZID:Australia/Adelaide
X-WR-TIMEZONE:Australia/Adelaide
BEGIN:VEVENT
UID:443@ais.sa.edu.au
DTSTART;TZID=Australia/Adelaide:20210823T090000
DTEND;TZID=Australia/Adelaide:20210823T120000
DTSTAMP:20210802T062646Z
URL:https://www.ais.sa.edu.au/events/using-celf-5-anz-screener-practical-c
 lassroom-strategies-screening-intervention-support-2/
SUMMARY:Using the CELF-5 A&NZ Screener – Practical Classroom Strategies
 for Screening\, Intervention and Support
DESCRIPTION:This event is fully booked.  Please email Rae Dawkins if you
 would like to be placed on a waitlist.\n\nLanguage development is
 foundational to literacy development\, from learning to read to
 communicating orally and in print. Learning occurs mainly through language.
 The CELF-5 A&amp\;NZ Fifth Edition Screening Test supports teachers in
 quickly and accurately screening children and young people (ages 5 years to
 21 years 11 months) who may be experiencing language difficulties.\n\nThe
 workshop is intended to build capacity to use the CELF-5 in order to:\n\n
 	identify students who may require further testing by a Speech
 Pathologist\n 	provide information regarding language profiles of
 students\, supporting intentional planning for a range of students and
 intervention where required\n 	focus on teaching and learning strategies
 that foster supportive language environments for all students\, including
 strategies to support students who are not typically developing or are
 at-risk.\n\nChristine D’Arcy is a Speech Pathologist with specific
 interest and experience in working with school-age students. Christine has
 worked with the Department for Education as part of the Secondary Learners
 Directorate\, providing support and training to secondary schools with a
 focus on supporting students with language-based learning
 difficulties.\n\nPlease see the event flyer for further details\n\nTarget
 audience: Inclusive Education and Literacy Coordinators (Primary and
 Secondary)\n\nDelivery mode: face to face\n\nPresenter: Christine
 D’Arcy\, Speech Pathologist\n\n&nbsp\;\n\nApplication
 Process:\n\nComplete and return the Application form via email to Rae
 Dawkins.\nOnce your application has been approved\, you will be notified
 and will then need to register via this page.\n-  The participant
 registering must be the person attending and the person who will administer
 the Screener at the school.\n-  The participant must be a registered
 teacher or Allied Health Professional (Psychologist or Speech and Language
 Pathologist) currently employed by the school.\n-  Registrations
 indicating participants who do not meet this stipulation are unable to be
 accepted.\nYou must register via the website within 5 working days of
 notification of your application being accepted.\n\n&nbsp\;\n\nIMPORTANT
 NOTICE: \n\nDue to current COVID-19 restrictions the AISSA is required
 to enforce set limits on the number of attendees for this event based on
 social distancing and maximum density rules.  To secure your place please
 complete the registration as attendance at the AISSA office without a
 confirmed place may result in being turned away if the event is at
 capacity.\n\nFor registration enquiries please contact Rae
 Dawkins.\n\nThere is no on-site parking available.  For parking options
 please refer to the parking map.  Tram stop #1 Greenhill Road is a
 6-minute walk away.
CATEGORIES:Professional Learning
LOCATION:Association of Independent Schools of SA\, 128 Greenhill Road\,
 Unley\, SA\, 5061\, Australia
GEO:-34.9601578;138.60864300000003
X-APPLE-STRUCTURED-LOCATION;VALUE=URI;X-ADDRESS=128 Greenhill Road\,
 Unley\, SA\, 5061\, Australia;X-APPLE-RADIUS=100;X-TITLE=Association of
 Independent Schools of SA:geo:-34.9601578,138.60864300000003
END:VEVENT
BEGIN:VTIMEZONE
TZID:Australia/Adelaide
X-LIC-LOCATION:Australia/Adelaide
BEGIN:STANDARD
DTSTART:20210404T020000
TZOFFSETFROM:+1030
TZOFFSETTO:+0930
TZNAME:ACST
END:STANDARD
END:VTIMEZONE
END:VCALENDAR