BEGIN:VCALENDAR
VERSION:2.0
PRODID:-//wp-events-plugin.com//7.2.3.1//EN
TZID:Australia/Adelaide
X-WR-TIMEZONE:Australia/Adelaide
BEGIN:VEVENT
UID:331@ais.sa.edu.au
DTSTART;TZID=Australia/Adelaide:20200604T160000
DTEND;TZID=Australia/Adelaide:20200604T170000
DTSTAMP:20200525T001310Z
URL:https://www.ais.sa.edu.au/events/update-satac-q/
SUMMARY:Update from SATAC: Q and A via Zoom
DESCRIPTION:This session will be offered via Zoom.  Registered attendees
 will be sent an access link closer to the event.\n\nThe AISSA will host an
 information session and Q and A Forum with SATAC’s Stuart Mossman\, Chief
 Executive\, and Scott Adkin\, Manager Applicant Services\, regarding
 tertiary admission processes. The presentation will assist schools to
 consider the latest developments regarding tertiary pathways and the
 implications for schools and curriculum authorities to enable them to
 respond accordingly.\n\nThis session will be held immediately following the
 Term 2 SCRG Meeting.\n\nFor registration enquiries please contact Emily
 Metelmann.\n\n&nbsp\;
CATEGORIES:Leadership and Coaching,Professional Learning
END:VEVENT
BEGIN:VTIMEZONE
TZID:Australia/Adelaide
X-LIC-LOCATION:Australia/Adelaide
BEGIN:STANDARD
DTSTART:20200405T020000
TZOFFSETFROM:+1030
TZOFFSETTO:+0930
TZNAME:ACST
END:STANDARD
END:VTIMEZONE
END:VCALENDAR