BEGIN:VCALENDAR
VERSION:2.0
PRODID:-//wp-events-plugin.com//7.2.3.1//EN
TZID:Australia/Adelaide
X-WR-TIMEZONE:Australia/Adelaide
BEGIN:VEVENT
UID:699@ais.sa.edu.au
DTSTART;TZID=Australia/Adelaide:20230607T090000
DTEND;TZID=Australia/Adelaide:20230607T150000
DTSTAMP:20230127T052215Z
URL:https://www.ais.sa.edu.au/events/transforming-classroom-practice-the-l
 iteracy-and-numeracy-general-capabilities/
SUMMARY:Transforming Classroom Practice: The Literacy and Numeracy General
 Capabilities
DESCRIPTION:This session will explore how the Literacy and Numeracy General
 Capabilities (formerly the National Literacy and Numeracy Learning
 Progressions) can be used to:\n\n 	facilitate a shared professional
 understanding of students’ expected literacy and numeracy development\n
 	identify the literacy and numeracy knowledge that enables students to
 access content across learning areas\n 	locate the current literacy and
 numeracy development of students\n 	identify where to next for students in
 their literacy and numeracy development\n 	inform and intentionally plan
 learning and teaching and\n 	inform student feedback and student goal
 setting.\n\nExamples of possible ways to use the Literacy and Numeracy
 General Capabilities for classroom and specialist teachers\, and students
 in primary and secondary contexts\, will be provided.\n\nAudience:
 curriculum and learning leaders F - Year 10\n\nDelivery mode:
 online\n\nPresenters: Desiree Gilbert\, Senior Educational Consultant\,
 AISSA and Rosemary Kadow\, Senior Educational Consultant\, AISSA\n\nFor
 registration enquiries please contact Emily Metelmann.\n\nA Zoom link will
 be sent closer to the event.\n\n&nbsp\;
CATEGORIES:Professional Learning
END:VEVENT
BEGIN:VTIMEZONE
TZID:Australia/Adelaide
X-LIC-LOCATION:Australia/Adelaide
BEGIN:STANDARD
DTSTART:20230402T020000
TZOFFSETFROM:+1030
TZOFFSETTO:+0930
TZNAME:ACST
END:STANDARD
END:VTIMEZONE
END:VCALENDAR