BEGIN:VCALENDAR
VERSION:2.0
PRODID:-//wp-events-plugin.com//7.2.3.1//EN
TZID:Australia/Adelaide
X-WR-TIMEZONE:Australia/Adelaide
BEGIN:VEVENT
UID:871@ais.sa.edu.au
DTSTART;TZID=Australia/Adelaide:20250508T090000
DTEND;TZID=Australia/Adelaide:20250508T150000
DTSTAMP:20241118T230110Z
URL:https://www.ais.sa.edu.au/events/thrive-by-design-a-proactive-approach
 -to-wellbeing/
SUMMARY:Thrive By Design – A Proactive Approach to Wellbeing
DESCRIPTION:Looking to engage\, excite and empower your school staff to
 feel and function better as individuals and as a collective through purpose
 driven and sustainable change? This workshop series is for you!\n\nDesigned
 for: Principals\, Early Childhood Leaders and Teachers\, Heads of Schools
 and Wellbeing Leaders.\n\nYour commitment: 8.25 contact hours plus any
 required reading.\n\nAITSL Professional Standards for Teachers: Focus areas
 6.1\, 6.2\, 6.3 and 7.4.\n\nDelivery mode: 1 x face-to-face workshop and 3
 x online workshops.\n\nPresented by: Meg Durham\, Wellbeing Speaker and
 Educator.\n\nPrice: $350.00 per person (GST inclusive).\n\nKey Dates: By
 registering for this series\, you are committing to attend the following
 sessions:\n\n8 May 2025\, 9:00am-3:00pm\n5 June 2025\, 12:00pm-12:45pm\n31
 July 2025\, 12:00pm-12:45pm\n16 October 2025\, 12:00pm-12:45pm\n\nLocation:
 AISSA\, 128 Greenhill Road\, Unley SA 5061 and online via Zoom - link will
 be provided prior to each session.\n\nRegistration closes: 1 May 2025 at
 5:00pm.\n\nProgram Overview: As big-hearted professionals working in
 schools\, we frequently prioritise the needs of others over our own\,
 resulting in emotional exhaustion and physical depletion. In this workshop
 series\, Meg Durham will lead participants to explore practical ways to
 navigate the relentless demands of school life and move forward with more
 energy\, clarity\, and confidence. We will explore the five patterns of
 behaviour that can keep us on the edge of overwhelm and practical ways to
 reduce the pressure and embrace the mess and magic of school life.\n\nWe
 will also hear and learn from select member schools who will unpack their
 experiences of working with the AISSA’s Wellbeing Toolkit and support
 others to identify where to start and how to build momentum.\n\nMeg Durham
 is the host of The School of Wellbeing podcast and a teacher wellbeing
 specialist who captivates audiences with her dynamic style and profound
 insights. With over a decade of teaching experience\, Meg has a unique
 ability to connect with educators\, leaving a lasting impact on their
 personal and professional lives.\n\nEnquiries: please contact Rae
 Dawkins.\n\nTerms and Conditions: Registration for this series will incur
 the fee detailed above. This fee will be invoiced after the event and is
 payable unless written notice of cancellation is received seven or more
 days prior to the event.  See the AISSA’s Professional Learning Terms
 and Conditions for the full registration terms and conditions including the
 cancellation policy.
CATEGORIES:Leadership and Coaching,Professional Learning,Wellbeing and
 Inclusion
LOCATION:Association of Independent Schools of SA\, 128 Greenhill Road\,
 Unley\, SA\, 5061\, Australia
GEO:-34.9601578;138.60864300000003
X-APPLE-STRUCTURED-LOCATION;VALUE=URI;X-ADDRESS=128 Greenhill Road\,
 Unley\, SA\, 5061\, Australia;X-APPLE-RADIUS=100;X-TITLE=Association of
 Independent Schools of SA:geo:-34.9601578,138.60864300000003
END:VEVENT
BEGIN:VTIMEZONE
TZID:Australia/Adelaide
X-LIC-LOCATION:Australia/Adelaide
BEGIN:STANDARD
DTSTART:20250406T020000
TZOFFSETFROM:+1030
TZOFFSETTO:+0930
TZNAME:ACST
END:STANDARD
END:VTIMEZONE
END:VCALENDAR