BEGIN:VCALENDAR
VERSION:2.0
PRODID:-//wp-events-plugin.com//7.2.3.1//EN
TZID:Australia/Adelaide
X-WR-TIMEZONE:Australia/Adelaide
BEGIN:VEVENT
UID:854@ais.sa.edu.au
DTSTART;TZID=Australia/Adelaide:20250514T100000
DTEND;TZID=Australia/Adelaide:20250514T120000
DTSTAMP:20250320T051036Z
URL:https://www.ais.sa.edu.au/events/term-2-oshc-network-meeting/
SUMMARY:Term 2 OSHC Network Meeting
DESCRIPTION:Engage with Out of School Hours Care (OSHC) leaders and
 educators in response to current sector initiatives to invigorate and
 enrich practices in OSHC settings.\n\nDesigned for: OSHC Directors\,
 Educational Leaders and OSHC Educators.\n\nYour commitment: 2 contact hours
 plus any required reading.\n\nAITSL Professional Standards for Teachers:
 Focus areas 2.3\, 3.4\, 3.7\, 6.2\, 6.3\, 7.2 and 7.4.\n\nDelivery mode: 1
 x face-to-face workshop\, with option to join online via Zoom.\n\nPresented
 by: Libby Worrell\, Senior Educational Consultant\, AISSA.\n\nPrice: There
 is no charge for this workshop.\n\nDate: 14 May 2025\,
 10:00am-12:00pm.\n\nLocation: AISSA\, 128 Greenhill Road\, Unley SA 5061.
 For participants joining online\, a Zoom link will be sent prior to this
 session.\n\nRegistration closes: 7 May 2025 at 5:00pm.\n\nProgram Overview:
 Explore the eight principles of My Time Our Place (MTOP) that reflect
 contemporary theories and research concerning children’s agency and
 place-based and relational pedagogies. Develop a case for change in your
 OSHC service and lead effectively using a range of principles:\n\n
 	building secure\, respectful and reciprocal relationships and
 partnerships\nrespecting diversity\n 	embedding Aboriginal and Torres
 Strait Islander perspectives\n 	committing to equity\, inclusion and high
 expectations\n 	considering sustainability in all its forms\n 	engaging in
 critical reflection and professional learning\n 	exercising collaborative
 leadership and working as a team.\n\nEnquiries: please contact Rae
 Dawkins.\n\nTerms and Conditions: See the AISSA’s Professional Learning
 Terms and Conditions for the full registration terms and conditions
 including the cancellation policy.
CATEGORIES:Early Childhood Education and Care,Leadership and
 Coaching,Professional Learning
LOCATION:Association of Independent Schools of SA\, 128 Greenhill Road\,
 Unley\, SA\, 5061\, Australia
GEO:-34.9601578;138.60864300000003
X-APPLE-STRUCTURED-LOCATION;VALUE=URI;X-ADDRESS=128 Greenhill Road\,
 Unley\, SA\, 5061\, Australia;X-APPLE-RADIUS=100;X-TITLE=Association of
 Independent Schools of SA:geo:-34.9601578,138.60864300000003
END:VEVENT
BEGIN:VTIMEZONE
TZID:Australia/Adelaide
X-LIC-LOCATION:Australia/Adelaide
BEGIN:STANDARD
DTSTART:20250406T020000
TZOFFSETFROM:+1030
TZOFFSETTO:+0930
TZNAME:ACST
END:STANDARD
END:VTIMEZONE
END:VCALENDAR