BEGIN:VCALENDAR
VERSION:2.0
PRODID:-//wp-events-plugin.com//7.2.3.1//EN
TZID:Australia/Adelaide
X-WR-TIMEZONE:Australia/Adelaide
BEGIN:VEVENT
UID:395@ais.sa.edu.au
DTSTART;TZID=Australia/Adelaide:20210224T160000
DTEND;TZID=Australia/Adelaide:20210224T183000
DTSTAMP:20210224T045339Z
URL:https://www.ais.sa.edu.au/events/teacher-certification-workshop-series
 -aspiring-highly-accomplished-lead-teachers-workshop-semester-1/
SUMMARY:Teacher Certification Workshop Series for Aspiring Highly
 Accomplished and Lead Teachers: Workshop A\, semester 1
DESCRIPTION:Workshop A: Introduction to Certification\n\n 	This workshop
 will introduce certification\, unpack the requirements of the process and
 identify your suitability and readiness to apply.\n 	This workshop supports
 applicants to develop a deeper understanding of the APST and to explore how
 their practice aligns to the career stages.\n 	Applicants are encouraged to
 bring their mentor or line manager to ensure a shared understanding of the
 process and requirements is developed.\n\n&nbsp\;\n\nTarget audience:
 Teachers who are working at or towards the Highly Accomplished or Lead
 Teacher (HALT) career stage of the Australian Professional Standards for
 Teachers (APST) who have the support and approval of their Principal. 
 Collecting and collating the evidence of your impact for the Stage 1
 application usually takes one to two years.\n\nDelivery mode:
 Zoom\n\nPresenters: Mary Pickett\, AISSA\n\n&nbsp\;\n\nThe AISSA provides
 support and professional learning for teachers in Independent Schools in SA
 who are seeking to become certified as a Highly Accomplished or Lead
 Teacher (HALT) and have their Principal’s support to do
 so.\n\nCertification is a national process and uses the Australian
 Professional Standards for Teachers (APST) as a basis for certifying
 teachers at the Highly Accomplished (HA) or Lead career stages. This
 workshop series is free for applicants\, but the cost of certification is
 $1825 (paid in stages).\n\nParticipants must register online and complete
 all 3 workshops in sequence within the semester or across the year (or in
 some situations 2 years) before they can submit their application for
 certification as a Highly Accomplished or Lead Teacher (HALT).\n\nThis
 workshop series is free for applicants\, but the cost of certification is
 $1825 (paid in stages).  The three-workshop series (A\, B and C) is
 offered each semester and must be completed in the correct sequence and
 within two years. Applicants must have the support of their Principal to
 apply for certification.\n\nFor further information please contact Mary
 Pickett.\n\nFor registration enquiries please contact Rae
 Dawkins.\n\n&nbsp\;\n\nPlease see the AISSA’s Video Conferencing
 Collection Notice and Video Conferencing Privacy Disclosure Statement for
 information about the AISSA’s collection of personal information through
 video conferencing.\n\nA Zoom link will be sent closer to the event.
CATEGORIES:Professional Learning
END:VEVENT
BEGIN:VTIMEZONE
TZID:Australia/Adelaide
X-LIC-LOCATION:Australia/Adelaide
BEGIN:DAYLIGHT
DTSTART:20201004T030000
TZOFFSETFROM:+0930
TZOFFSETTO:+1030
TZNAME:ACDT
END:DAYLIGHT
END:VTIMEZONE
END:VCALENDAR