BEGIN:VCALENDAR
VERSION:2.0
PRODID:-//wp-events-plugin.com//7.2.3.1//EN
TZID:Australia/Adelaide
X-WR-TIMEZONE:Australia/Adelaide
BEGIN:VEVENT
UID:396@ais.sa.edu.au
DTSTART;TZID=Australia/Adelaide:20210421T090000
DTEND;TZID=Australia/Adelaide:20210421T150000
DTSTAMP:20210407T003114Z
URL:https://www.ais.sa.edu.au/events/teacher-certification-workshop-series
 -aspiring-highly-accomplished-lead-teachers-workshop-b-semester-1/
SUMMARY:Teacher Certification Workshop Series for Aspiring Highly
 Accomplished and Lead Teachers: Workshop B\, semester 1
DESCRIPTION:Workshop B: Professional Writing Requirements and Evidence of
 Impact \n\n 	Certification requires a deep reflection on your teaching
 practice and an evaluative mindset to explore the impact of your
 professional practice on colleagues and students and to collect relevant
 evidence and articulate its alignment to the APST.  \n 	The professional
 writing requirements of the process are significant and require a targeted
 approach. Applicants will engage in writing annotations and aligning their
 evidence to the descriptors. \n\n\n 	This workshop will also explore the
 role and requirements of referees in the certification
 process.  \n\n&nbsp\;\n\nTarget audience: Teachers who are working at or
 towards the Highly Accomplished or Lead Teacher (HALT) career stage of the
 Australian Professional Standards for Teachers (APST) who have the support
 and approval of their Principal.  Collecting and collating the evidence of
 your impact for the Stage 1 application usually takes one to two
 years.\n\nDelivery mode: Face to face\n\nPresenters: Mary Pickett\,
 AISSA\n\n&nbsp\;\n\nThe AISSA provides support and professional learning
 for teachers in Independent Schools in SA who are seeking to become
 certified as a Highly Accomplished or Lead Teacher (HALT) and have their
 Principal’s support to do so.\n\nCertification is a national process and
 uses the Australian Professional Standards for Teachers (APST) as a basis
 for certifying teachers at the Highly Accomplished (HA) or Lead career
 stages. This workshop series is free for applicants\, but the cost of
 certification is $1825 (paid in stages).\n\nParticipants must register
 online and complete all 3 workshops in sequence within the semester or
 across the year (or in some situations 2 years) before they can submit
 their application for certification as a Highly Accomplished or Lead
 Teacher (HALT).\n\nThis workshop series is free for applicants\, but the
 cost of certification is $1825 (paid in stages).  The three-workshop
 series (A\, B and C) is offered each semester and must be completed in the
 correct sequence and within two years. Applicants must have the support of
 their Principal to apply for certification.\n\nFor further information
 please contact Mary Pickett\n\n&nbsp\;\n\nIMPORTANT NOTICE: \n\nDue to
 current COVID-19 restrictions the AISSA is required to enforce set limits
 on the number of attendees for this event based on social distancing and
 maximum density rules.  To secure your place please complete the
 registration as attendance at the AISSA office without a
 confirmed place may result in being turned away if the event is at
 capacity.\n\nThere is no on-site parking available.  For parking options
 please refer to the parking map.  Tram stop #1 Greenhill Road is a
 6-minute walk away.\n\n&nbsp\;\n\nFor registration enquiries please contact
 Rae Dawkins.
CATEGORIES:Professional Learning
LOCATION:Association of Independent Schools of SA\, 128 Greenhill Road\,
 Unley\, SA\, 5061\, Australia
GEO:-34.9601578;138.60864300000003
X-APPLE-STRUCTURED-LOCATION;VALUE=URI;X-ADDRESS=128 Greenhill Road\,
 Unley\, SA\, 5061\, Australia;X-APPLE-RADIUS=100;X-TITLE=Association of
 Independent Schools of SA:geo:-34.9601578,138.60864300000003
END:VEVENT
BEGIN:VTIMEZONE
TZID:Australia/Adelaide
X-LIC-LOCATION:Australia/Adelaide
BEGIN:STANDARD
DTSTART:20210404T020000
TZOFFSETFROM:+1030
TZOFFSETTO:+0930
TZNAME:ACST
END:STANDARD
END:VTIMEZONE
END:VCALENDAR