BEGIN:VCALENDAR
VERSION:2.0
PRODID:-//wp-events-plugin.com//7.2.3.1//EN
TZID:Australia/Adelaide
X-WR-TIMEZONE:Australia/Adelaide
BEGIN:VEVENT
UID:576@ais.sa.edu.au
DTSTART;TZID=Australia/Adelaide:20220823T090000
DTEND;TZID=Australia/Adelaide:20220823T150000
DTSTAMP:20220819T063315Z
URL:https://www.ais.sa.edu.au/events/teacher-certification-recognising-tea
 cher-excellence-semester-2-workshop-b/
SUMMARY:Teacher Certification - Recognising Teacher Excellence\, Semester 2
 Workshop B
DESCRIPTION:Teacher Certification provides a high quality\, nationally
 consistent approach to identifying and certifying teachers in accordance
 with the advanced career stages of the Australian Professional Standards
 for Teachers (APST).\n\nThe AISSA facilitates and supports aspiring Highly
 Accomplished and Lead Teachers (HALTs) to apply for certification through a
 series of three workshops which are offered each semester These sessions
 help to build understanding of the requirements of the process and how to
 collect\, curate and annotate evidence of practice at the HA or Lead career
 stage. Applicants are required to complete all three workshops in sequence
 within a 12-18 month timeframe.\n\nTeacher Certification:\n\n 	recognises
 and promotes quality teaching\n 	provides an opportunity for teachers to
 reflect on their practice and demonstrate their impact\n 	provides a
 reliable indication of quality teaching to support growth and recognise
 high performing teachers.\n\nIn conjunction with Catholic Education\, the
 Department for Education and the South Australian Teacher Certification
 Committee (SATCC) – the SA certifying authority\, the AISSA facilitates
 the assessment process of all HALT applications in SA Independent Schools
 using nationally trained assessors from our schools.\n\n2022 Semester 2
 dates: (please register for each separately)\nWorkshop A: must be completed
 prior to registering for Workshop B (this will be offered again in Semester
 1 next year)\nWorkshop B: 23 August\, 9am–3pm (face to face) at
 AISSA\nWorkshop C: 13 October\, 9am–3pm (face to face) at
 AISSA\n\nFurther information can be found on the AISSA and AITSL
 Certification webpages or contact Mary Pickett.\n\nTarget audience –
 expert teachers and aspiring HALTs who have their Principal’s support and
 endorsement and meet eligibility and suitability requirements (see pp.
 10-11 Guide)\n\nDelivery mode – face to face\n\nPresenter – Mary
 Pickett\, Senior Educational Consultant\, AISSA\n\nWorkshops are free\;
 however\, applications will incur a total cost of $1825 ex gst (this is not
 expected to cover the full cost to AISSA for the provision of
 certification) which will be paid to AISSA in three stages.\n\nThe Guide to
 Certification for SA provides details about eligibility and processes and
 is a key document for any interested teacher/leader/mentor.\n\nFor
 registration enquiries please contact Rae Dawkins.\n\nThere is no on-site
 parking available. For parking options please refer to the parking map.
 Tram stop #1 Greenhill Road is a 6-minute walk away.
CATEGORIES:Professional Learning
LOCATION:Association of Independent Schools of SA\, 128 Greenhill Road\,
 Unley\, SA\, 5061\, Australia
GEO:-34.9601578;138.60864300000003
X-APPLE-STRUCTURED-LOCATION;VALUE=URI;X-ADDRESS=128 Greenhill Road\,
 Unley\, SA\, 5061\, Australia;X-APPLE-RADIUS=100;X-TITLE=Association of
 Independent Schools of SA:geo:-34.9601578,138.60864300000003
END:VEVENT
BEGIN:VTIMEZONE
TZID:Australia/Adelaide
X-LIC-LOCATION:Australia/Adelaide
BEGIN:STANDARD
DTSTART:20220403T020000
TZOFFSETFROM:+1030
TZOFFSETTO:+0930
TZNAME:ACST
END:STANDARD
END:VTIMEZONE
END:VCALENDAR