BEGIN:VCALENDAR
VERSION:2.0
PRODID:-//wp-events-plugin.com//7.2.3.1//EN
TZID:Australia/Adelaide
X-WR-TIMEZONE:Australia/Adelaide
BEGIN:VEVENT
UID:445@ais.sa.edu.au
DTSTART;TZID=Australia/Adelaide:20210520T160000
DTEND;TZID=Australia/Adelaide:20210520T180000
DTSTAMP:20210519T065900Z
URL:https://www.ais.sa.edu.au/events/spotlight-event-forum-event-future-di
 rections-recognition-learning-learner-profiles-micro-credentials-potential
 -digital-passports/
SUMMARY:Spotlight Event A - Forum Event: Future Directions in the
 Recognition of Learning\, Learner Profiles\, Micro Credentials and the
 Potential of Digital Passports
DESCRIPTION:Spotlight Sessions: New Credentials and Paths to Tertiary
 Study\n\n 	How might schools broaden the definition of school success to
 recognise learning both with and beyond an ATAR?\n 	Can a Learner Profile
 approach enhance and recognise a broader range of student capacities that
 enable engagement with post school pathways?\n 	In 2021\, how far have we
 come?\n\nThe AISSA has continued to pay close attention to the evolving
 national landscape with regard to tertiary pathways and the implications
 for schools and curriculum authorities as they consider future directions
 in recognising student success with and beyond the ATAR.\n\nTeachers and
 leaders are invited to these 2021 events to hear from a range of experts
 and first movers who will share their insights\, innovations and future
 directions.\n\nSpotlight Event A Expert Panel:\n\n 	Dr Richard Owens\,
 Mastery Transcript Consortium Australian Hub Lead\n 	Dr Peter Thomas\,
 Director\, HaileyburyX\n 	Dr Asheley Jones\, Chief Operations Officer Head
 of Product DeakinCo\, Deakin University\n 	A/Professor Sandra Milligan\,
 Director of the Assessment Research Centre (ARC) University of Melbourne
 and Co- Convenor Learner Creates\n 	Professor Martin Westwell\, Chief
 Executive SACE Board.\n 	\n\nTarget audience: Principals\, school leaders
 and teachers\n\nDelivery mode: Zoom\n\nPresenters:\nExpert Panel
 Members\nJulie Tarzia\, AISSA\n\n&nbsp\;\n\nPlease see the AISSA’s Video
 Conferencing Collection Notice and Video Conferencing Privacy Disclosure
 Statement for information about the AISSA’s collection of personal
 information through video conferencing.\n\nA Zoom link will be sent closer
 to the event.\n\n&nbsp\;\n\nFor registration enquiries please contact Emily
 Metelmann.
CATEGORIES:Leadership and Coaching,Professional Learning
END:VEVENT
BEGIN:VTIMEZONE
TZID:Australia/Adelaide
X-LIC-LOCATION:Australia/Adelaide
BEGIN:STANDARD
DTSTART:20210404T020000
TZOFFSETFROM:+1030
TZOFFSETTO:+0930
TZNAME:ACST
END:STANDARD
END:VTIMEZONE
END:VCALENDAR