BEGIN:VCALENDAR
VERSION:2.0
PRODID:-//wp-events-plugin.com//7.2.3.1//EN
TZID:Australia/Adelaide
X-WR-TIMEZONE:Australia/Adelaide
BEGIN:VEVENT
UID:594@ais.sa.edu.au
DTSTART;TZID=Australia/Adelaide:20220804T160000
DTEND;TZID=Australia/Adelaide:20220804T180000
DTSTAMP:20220803T011333Z
URL:https://www.ais.sa.edu.au/events/spotlight-event-b-university-admissio
 ns-pathways-forum-q-expert-panel-2/
SUMMARY:Spotlight Event B: University Admissions Pathways Forum Q and A –
 Expert Panel
DESCRIPTION:Each year the AISSA invites leading universities to share the
 latest updates regarding admissions processes and future
 directions.\n\nThis session invites all school leaders and teachers to join
 the discussion regarding current and future directions for admissions into
 both local and national universities.\n\nUniversities represented:\n\n
 	University of Adelaide\n 	Flinders University of SA\n 	University of South
 Australia\n 	one interstate university.\n\n&nbsp\;\n\nTarget audience –
 principals\, school leaders and teachers\n\nDelivery mode –
 Zoom\n\nPresenters – key university representatives from local and
 interstate universities\, and Julie Tarzia\, Senior Educational
 Consultant\, AISSA\n\n&nbsp\;\n\nFor registration enquiries please contact
 Emily Metelmann.\n\nA Zoom link will be sent closer to the event.
CATEGORIES:Professional Learning
END:VEVENT
BEGIN:VTIMEZONE
TZID:Australia/Adelaide
X-LIC-LOCATION:Australia/Adelaide
BEGIN:STANDARD
DTSTART:20220403T020000
TZOFFSETFROM:+1030
TZOFFSETTO:+0930
TZNAME:ACST
END:STANDARD
END:VTIMEZONE
END:VCALENDAR