BEGIN:VCALENDAR
VERSION:2.0
PRODID:-//wp-events-plugin.com//7.2.3.1//EN
TZID:Australia/Adelaide
X-WR-TIMEZONE:Australia/Adelaide
BEGIN:VEVENT
UID:473@ais.sa.edu.au
DTSTART;TZID=Australia/Adelaide:20210323T090000
DTEND;TZID=Australia/Adelaide:20210323T120000
DTSTAMP:20210322T013345Z
URL:https://www.ais.sa.edu.au/events/science-ancient-knowledge-meets-weste
 rn-science-teaching-truer-australian-science-year-7-year-10a/
SUMMARY:Science: Ancient knowledge meets western science\, teaching a truer
 Australian science Year 7 – Year 10
DESCRIPTION:Educators\, teachers and an Aboriginal Elder will share how
 student engagement and learning of scientific concepts can be enriched by
 embedding Aboriginal and Torres Strait Islander perspectives.  Science
 teachers will share how they embedded Aboriginal perspectives into
 authentic science tasks and discuss the task design\, pedagogical
 approach\, resources and student learning.\n\nThis workshop is designed to
 provide teachers with an overview of the new ACARA Aboriginal and Torres
 Strait Islander elaborations for Years 7\, 8\, 9 and 10. As part of this
 workshop\, teachers will have an opportunity to gain a deeper understanding
 of some of the ways these elaborations can be integrated into the Science
 curriculum. There are 49 new elaborations for Years 7-10 making a total of
 53 in the refined Science curriculum. We will focus in depth on a small
 number so that there are opportunities to consider how the concepts behind
 these Science activities can be integrated into learning designs.\n“The
 elaborations acknowledge that Aboriginal Peoples and Torres Strait Islander
 Peoples have worked scientifically for millennia and continue to contribute
 to contemporary science. They are scientifically rigorous\, demonstrating
 how Indigenous history\, culture\, knowledge and understanding can be
 incorporated into teaching core scientific concepts”. (ACARA 2018)\nThe
 refined Science curriculum now has 108 Aboriginal and Torres Strait
 Islander elaborations\, an increase of 95. These elaborations demonstrate
 the connection between the core Science concepts and Aboriginal and Torres
 Strait Islander histories and cultures. The elaborations are spread over
 the three interrelated fields of the Science curriculum: Science
 Understanding\, Science as a Human Endeavour and Science Inquiry
 Skills.\n\n&nbsp\;\n\nTarget audience: Directors of Learning\, Science
 Teachers Years 7 to 10\n\nDelivery mode: Face to face\n\nPresenters:\nUncle
 Tamaru Smith\nSonya Arnold\, Seymour College\nNahla Baroudi\, Westminster
 School\nToni Maddock\, Southern Montessori School\nJames Mingorance\,
 Southern Montessori School\nMonica Williams\, AISSA\n\n&nbsp\;\n\nIMPORTANT
 NOTICE: \n\nDue to current COVID-19 restrictions the AISSA is required
 to enforce set limits on the number of attendees for this event based on
 social distancing and maximum density rules.  To secure your place please
 complete the registration as attendance at the AISSA office without a
 confirmed place may result in being turned away if the event is at
 capacity.\n\nThere is no on-site parking available.  For parking options
 please refer to the parking map.  Tram stop #1 Greenhill Road is a
 6-minute walk away.\n\n&nbsp\;\n\nFor registration enquiries please contact
 Rae Dawkins.
CATEGORIES:Building Culturally Responsive Schools,Professional Learning
LOCATION:Association of Independent Schools of SA\, 128 Greenhill Road\,
 Unley\, SA\, 5061\, Australia
GEO:-34.9601578;138.60864300000003
X-APPLE-STRUCTURED-LOCATION;VALUE=URI;X-ADDRESS=128 Greenhill Road\,
 Unley\, SA\, 5061\, Australia;X-APPLE-RADIUS=100;X-TITLE=Association of
 Independent Schools of SA:geo:-34.9601578,138.60864300000003
END:VEVENT
BEGIN:VTIMEZONE
TZID:Australia/Adelaide
X-LIC-LOCATION:Australia/Adelaide
BEGIN:DAYLIGHT
DTSTART:20201004T030000
TZOFFSETFROM:+0930
TZOFFSETTO:+1030
TZNAME:ACDT
END:DAYLIGHT
END:VTIMEZONE
END:VCALENDAR