BEGIN:VCALENDAR
VERSION:2.0
PRODID:-//wp-events-plugin.com//7.2.3.1//EN
TZID:Australia/Adelaide
X-WR-TIMEZONE:Australia/Adelaide
BEGIN:VEVENT
UID:947@ais.sa.edu.au
DTSTART;TZID=Australia/Adelaide:20260515T090000
DTEND;TZID=Australia/Adelaide:20260515T153000
DTSTAMP:20251126T071008Z
URL:https://www.ais.sa.edu.au/events/reducing-maths-anxiety-practical-stra
 tegies-for-educators-f-12/
SUMMARY:Reducing Maths Anxiety - Practical Strategies for Educators F-12
DESCRIPTION:Join Dr Florence Gabriel and Dr Rebecca Marrone for a practical
 workshop tackling maths anxiety. Learn how it develops\, impacts
 learning\, and gain evidence-based strategies to build confidence and
 create safe\, inclusive learning experiences for all students
 F-12.\n\nYour commitment: 6.5 contact hours plus any required
 reading.\n\nAITSL Professional Standards for Teachers: Focus areas 1.2\,
 2.1\, 2.5\, 3.3 and 3.2.\n\nDelivery mode: 1 x face-to-face
 session.\n\nPresented by: \nDr Florence Gabriel\, Enterprise Fellow in
 Education Futures and Senior Research Fellow at C3L\, the Centre for Change
 and Complexity in Learning at Adelaide University.\nDr Rebecca Marrone\,
 Lecturer at Learning Sciences and Development for the Centre for Change and
 Complexity in Learning (C3L) at UniSA Education Futures.\n\nPrice: $500.00
 per person (GST inclusive).\n\nDate: 15 May 2026\,
 9:00am-3:30pm.\n\nLocation: AISSA\, 128 Greenhill Road\, Unley SA
 5061.\n\nRegistration closes: 8 May 2026 at 5:00pm.\n\nProgram Overview:
 Join Dr Florence Gabriel and Dr Rebecca Marrone for a practical\,
 research-informed workshop focused on understanding and responding to maths
 anxiety in primary and secondary students. \n\nLearn how maths anxiety
 develops\, how it impacts learning and performance\, and how it manifests
 in real classrooms. Explore the long-term effects of early negative
 experiences\, the role of self-concept\, and the influence of teacher
 beliefs and family partnerships on student outcomes. Most importantly\,
 gain evidence-based strategies to build student confidence\, reduce fear\,
 and create maths classrooms where all students feel safe to take risks.
 Walk away with practical tools you can use immediately to support anxious
 learners and foster a more positive maths culture. \n\nThis workshop is
 designed for F–12 mathematics teachers\, leaders\, inclusive education
 teams\, and SSOs committed to creating safe\, supportive\, and successful
 learning environments.\n\nProgram Lead: please contact Désirée
 Gilbert.\n\nTerms and Conditions: Registration for this event will incur
 the fee detailed above. This fee will be invoiced after the event and is
 payable unless written notice of cancellation is received seven or more
 days prior to the event.  See the AISSA’s Professional Learning Terms
 and Conditions for the full registration terms and conditions including
 the cancellation policy.
CATEGORIES:Curriculum, Pedagogy and Assessment,Professional
 Learning,Wellbeing and Inclusion
LOCATION:Association of Independent Schools of SA\, 128 Greenhill Road\,
 Unley\, SA\, 5061\, Australia
GEO:-34.9601578;138.60864300000003
X-APPLE-STRUCTURED-LOCATION;VALUE=URI;X-ADDRESS=128 Greenhill Road\,
 Unley\, SA\, 5061\, Australia;X-APPLE-RADIUS=100;X-TITLE=Association of
 Independent Schools of SA:geo:-34.9601578,138.60864300000003
END:VEVENT
BEGIN:VTIMEZONE
TZID:Australia/Adelaide
X-LIC-LOCATION:Australia/Adelaide
BEGIN:STANDARD
DTSTART:20260405T020000
TZOFFSETFROM:+1030
TZOFFSETTO:+0930
TZNAME:ACST
END:STANDARD
END:VTIMEZONE
END:VCALENDAR