BEGIN:VCALENDAR
VERSION:2.0
PRODID:-//wp-events-plugin.com//7.2.3.1//EN
TZID:Australia/Adelaide
X-WR-TIMEZONE:Australia/Adelaide
BEGIN:VEVENT
UID:389@ais.sa.edu.au
DTSTART;TZID=Australia/Adelaide:20210302T130000
DTEND;TZID=Australia/Adelaide:20210302T153000
DTSTAMP:20210226T014604Z
URL:https://www.ais.sa.edu.au/events/primary-mathematics-impact-hub-sessio
 n-1-4/
SUMMARY:Primary Mathematics Impact Hub\, session 1 of 4
DESCRIPTION:The Mathematics Impact Hub series focuses on networking and
 engaging in dialogue about current best practices in primary mathematics
 learning and teaching. Hubs are held once a term and follow an agenda
 established at each previous hub meeting. The Mathematics Impact Hub was
 established in 2020. New participants are welcome!\n\nDialogue is focussed
 on:\n\n 	Current educational research and initiatives\n 	Expanding
 perspective about mathematics learning and teaching\n 	Generating practical
 ideas for action\n 	Sharing of classroom practice and mathematics
 initiatives\n 	Open discussion.\n\n&nbsp\;\n\nTarget audience: Primary
 mathematics coordinators\, mathematics curriculum leaders and teacher
 leaders\n\nDelivery mode: Face to face\n\nPresenter: Desiree
 Gilbert\n\nSessions in this series:\nTuesday 2 March 2021\, 1.00pm –
 3.30pm\nTuesday 8 June 2021\, 1.00pm – 3.30pm\nTuesday 10 August\, 1.00pm
 – 3.30pm\nTuesday 9 November\, 1.00pm – 3.30pm\n\n&nbsp\;\n\nIMPORTANT
 NOTICE: \n\nDue to current COVID-19 restrictions the AISSA is required
 to enforce set limits on the number of attendees for this event based on
 social distancing and maximum density rules.  To secure your place please
 complete the registration as attendance at the AISSA office without a
 confirmed place may result in being turned away if the event is at
 capacity.\n\nThere is no on-site parking available.  For parking options
 please refer to the parking map.  Tram stop #1 Greenhill Road is a
 6-minute walk away.\n\n&nbsp\;\n\nFor registration enquiries please contact
 Emily Metelmann.
CATEGORIES:Professional Learning
LOCATION:Association of Independent Schools of SA\, 128 Greenhill Road\,
 Unley\, SA\, 5061\, Australia
GEO:-34.9601578;138.60864300000003
X-APPLE-STRUCTURED-LOCATION;VALUE=URI;X-ADDRESS=128 Greenhill Road\,
 Unley\, SA\, 5061\, Australia;X-APPLE-RADIUS=100;X-TITLE=Association of
 Independent Schools of SA:geo:-34.9601578,138.60864300000003
END:VEVENT
BEGIN:VTIMEZONE
TZID:Australia/Adelaide
X-LIC-LOCATION:Australia/Adelaide
BEGIN:DAYLIGHT
DTSTART:20201004T030000
TZOFFSETFROM:+0930
TZOFFSETTO:+1030
TZNAME:ACDT
END:DAYLIGHT
END:VTIMEZONE
END:VCALENDAR