BEGIN:VCALENDAR
VERSION:2.0
PRODID:-//wp-events-plugin.com//7.2.3.1//EN
TZID:Australia/Adelaide
X-WR-TIMEZONE:Australia/Adelaide
BEGIN:VEVENT
UID:437@ais.sa.edu.au
DTSTART;TZID=Australia/Adelaide:20210507T090000
DTEND;TZID=Australia/Adelaide:20210507T150000
DTSTAMP:20210505T070140Z
URL:https://www.ais.sa.edu.au/events/positive-behaviour-support-prevention
 -intervention-session-1-2/
SUMMARY:Positive Behaviour Support: Prevention and Intervention\, session 1
 of 2
DESCRIPTION:Day 1\, 7 May\n\nA full day workshop\, hosted by the AISSA and
 presented by psychologists Kerry Burke and Lisa Chisholm\, will explore
 student behaviour through a developmental lens. The workshop will focus
 on:\n\n 	social and emotional development\, particularly in school-age
 years\n 	effects of trauma and adverse life events\n 	supportive classroom
 practice and strategies for both typically developing students and those
 requiring additional supports.\n\nPresenters: Kerry Burke and Lisa
 Chisholm\, Psychologists\n\n&nbsp\;\n\nDay 2\, 21 October\n\nA full day
 workshop provided to teachers and school leaders\, focusing on fostering
 proactive\, positive behaviour strategies and supports within schools from
 the everyday classroom through to intervention. The workshop will consider
 practical actions and responses in the educational setting\, with
 consideration to the learning from Day 1 in the series. Topics covered
 include:\n\n 	positive behaviour support\n 	response to intervention\n
 	functional behaviour analysis\n 	individual behaviour support
 plans.\n\nPresenter: Melissa Symonds\, AISSA\n\n&nbsp\;\n\nParticipants
 will increase their capacity to understand and apply current research and
 evidence-based strategies in a contextualized manner\, proactively
 supporting positive behaviours.\n\n&nbsp\;\n\nTarget audience: Teachers and
 school leaders\nDelivery mode: face to face\n&nbsp\;\n\nIMPORTANT
 NOTICE: \n\nDue to current COVID-19 restrictions the AISSA is required
 to enforce set limits on the number of attendees for this event based on
 social distancing and maximum density rules.  To secure your place please
 complete the registration as attendance at the AISSA office without a
 confirmed place may result in being turned away if the event is at
 capacity.\n\nFor registration enquiries please contact Rae
 Dawkins.\n\nThere is no on-site parking available.  For parking options
 please refer to the parking map.  Tram stop #1 Greenhill Road is a
 6-minute walk away
CATEGORIES:Professional Learning
LOCATION:Association of Independent Schools of SA\, 128 Greenhill Road\,
 Unley\, SA\, 5061\, Australia
GEO:-34.9601578;138.60864300000003
X-APPLE-STRUCTURED-LOCATION;VALUE=URI;X-ADDRESS=128 Greenhill Road\,
 Unley\, SA\, 5061\, Australia;X-APPLE-RADIUS=100;X-TITLE=Association of
 Independent Schools of SA:geo:-34.9601578,138.60864300000003
END:VEVENT
BEGIN:VTIMEZONE
TZID:Australia/Adelaide
X-LIC-LOCATION:Australia/Adelaide
BEGIN:STANDARD
DTSTART:20210404T020000
TZOFFSETFROM:+1030
TZOFFSETTO:+0930
TZNAME:ACST
END:STANDARD
END:VTIMEZONE
END:VCALENDAR