BEGIN:VCALENDAR
VERSION:2.0
PRODID:-//wp-events-plugin.com//7.2.3.1//EN
TZID:Australia/Adelaide
X-WR-TIMEZONE:Australia/Adelaide
BEGIN:VEVENT
UID:436@ais.sa.edu.au
DTSTART;TZID=Australia/Adelaide:20210601T090000
DTEND;TZID=Australia/Adelaide:20210601T150000
DTSTAMP:20210511T060110Z
URL:https://www.ais.sa.edu.au/events/overview-eal-d-progressions-ensuring-
 inclusive-rigorous-engagement-within-australian-curriculum-teachers-new-ea
 l-d-2/
SUMMARY:Overview of the EAL/D Progression: Ensuring Inclusive and Rigorous
 Engagement Within the Australian Curriculum for Teachers New to EAL/D
DESCRIPTION:This one-day workshop will assist teachers in responding to the
 Australian Curriculum’s EAL/D Progression and supporting materials as
 they plan for the engagement of EAL/D students within their classroom.
 Topics covered include:\n\n&nbsp\;\n\n 	a general overview of language
 development in school-age students\n 	overview and use of the Australian
 Curriculum’s EAL/D Progressions in determining language proficiency and
 monitoring language learning (with a focus on the Writing mode for the
 purposes of the session)\n 	use of the Australian Curriculum’s EAL/D
 resources to support planning for effective and inclusive
 practice.\n\n&nbsp\;\n\nTarget audience: Classroom Teachers\, EAL/D
 Teachers &amp\; Leaders\, Inclusive Education Teachers &amp\;
 Leaders.\n\nDelivery mode: Face to face\n\nPresenter: Melissa Symonds\,
 AISSA\n\n&nbsp\;\n\nIMPORTANT NOTICE: \n\nDue to current
 COVID-19 restrictions the AISSA is required to enforce set limits on the
 number of attendees for this event based on social distancing and maximum
 density rules.  To secure your place please complete the registration as
 attendance at the AISSA office without a confirmed place may result in
 being turned away if the event is at capacity.\n\nFor registration
 enquiries please contact Rae Dawkins.\n\nThere is no on-site parking
 available.  For parking options please refer to the parking map.  Tram
 stop #1 Greenhill Road is a 6-minute walk away
CATEGORIES:Professional Learning
LOCATION:Association of Independent Schools of SA\, 128 Greenhill Road\,
 Unley\, SA\, 5061\, Australia
GEO:-34.9601578;138.60864300000003
X-APPLE-STRUCTURED-LOCATION;VALUE=URI;X-ADDRESS=128 Greenhill Road\,
 Unley\, SA\, 5061\, Australia;X-APPLE-RADIUS=100;X-TITLE=Association of
 Independent Schools of SA:geo:-34.9601578,138.60864300000003
END:VEVENT
BEGIN:VTIMEZONE
TZID:Australia/Adelaide
X-LIC-LOCATION:Australia/Adelaide
BEGIN:STANDARD
DTSTART:20210404T020000
TZOFFSETFROM:+1030
TZOFFSETTO:+0930
TZNAME:ACST
END:STANDARD
END:VTIMEZONE
END:VCALENDAR