BEGIN:VCALENDAR
VERSION:2.0
PRODID:-//wp-events-plugin.com//7.2.3.1//EN
TZID:Australia/Adelaide
X-WR-TIMEZONE:Australia/Adelaide
BEGIN:VEVENT
UID:430@ais.sa.edu.au
DTSTART;TZID=Australia/Adelaide:20211117T100000
DTEND;TZID=Australia/Adelaide:20211117T120000
DTSTAMP:20211115T033543Z
URL:https://www.ais.sa.edu.au/events/oshc-educators-network-meeting-7-2/
SUMMARY:CANCELLED - OSHC Educators’ Network Meeting 7
DESCRIPTION:The OSHC Educators’ Network is structured for OSHC leaders
 and educators from our member schools to engage collaboratively in ways
 which invigorate and enrich practice. It provides a forum for provocation
 and discussion and facilitates a community of practice approach to ongoing
 professional learning. Implementing the My Time Our Place Framework and the
 National Quality Standard\, participants will have the opportunity to visit
 and tour OSHC services and engage in rich group discussions relating to
 current research on educational theories and practices\, focused topics and
 other questions and issues raised.\n\nTerm 4 learning focus: 2021 – The
 Year in Review\n\nOur last meeting for the year will include a social lunch
 to come together and reflect upon the professional development
 opportunities through our OSHC network meetings including the impact on
 each service’s practice. We will share ideas and brainstorm future
 professional learning opportunities through the AISSA.\n\n&nbsp\;\n\nTarget
 audience: OSHC Providers\, Directors and Educators\n\nDelivery mode: Face
 to face - If you would like to attend these sessions by Zoom\, please
 register on the AISSA website and then email Rae Dawkins to
 advise.\n\n&nbsp\;\n\nIMPORTANT NOTICE: \n\nTo meet SA’s COVID-19
 restrictions the AISSA must enforce set limits on the number of attendees
 for this event based on current social distancing and density rules.  To
 secure your place please complete the registration as attendance without a
 confirmed booking may result in being turned away if the event is at
 capacity.  Visitors to the AISSA office must wear a mask in circumstances
 where you cannot maintain a 1.5m physical distance from others onsite\,
 unless you have a lawful exemption.  You may remove your mask for food and
 drink consumption only.\n\n&nbsp\;\n\nThere is no on-site parking
 available.  For parking options please refer to the parking map.  Tram
 stop #1 Greenhill Road is a 6-minute walk away.\n\n&nbsp\;\n\nFor
 registration enquiries please contact Rae Dawkins.\n\n&nbsp\;
CATEGORIES:Professional Learning
LOCATION:Association of Independent Schools of SA\, 128 Greenhill Road\,
 Unley\, SA\, 5061\, Australia
GEO:-34.9601578;138.60864300000003
X-APPLE-STRUCTURED-LOCATION;VALUE=URI;X-ADDRESS=128 Greenhill Road\,
 Unley\, SA\, 5061\, Australia;X-APPLE-RADIUS=100;X-TITLE=Association of
 Independent Schools of SA:geo:-34.9601578,138.60864300000003
END:VEVENT
BEGIN:VTIMEZONE
TZID:Australia/Adelaide
X-LIC-LOCATION:Australia/Adelaide
BEGIN:DAYLIGHT
DTSTART:20211003T030000
TZOFFSETFROM:+0930
TZOFFSETTO:+1030
TZNAME:ACDT
END:DAYLIGHT
END:VTIMEZONE
END:VCALENDAR