BEGIN:VCALENDAR
VERSION:2.0
PRODID:-//wp-events-plugin.com//7.2.3.1//EN
TZID:Australia/Adelaide
X-WR-TIMEZONE:Australia/Adelaide
BEGIN:VEVENT
UID:237@ais.sa.edu.au
DTSTART;TZID=Australia/Adelaide:20200909T100000
DTEND;TZID=Australia/Adelaide:20200909T123000
DTSTAMP:20200903T061151Z
URL:https://www.ais.sa.edu.au/events/oshc-educators-network-meeting-6/
SUMMARY:OSHC Educators’ Network meeting 6
DESCRIPTION:&nbsp\;\nIf you would like to participate via Zoom please email
 Rae Dawkins\n&nbsp\;\nFocus: Staff Wellbeing – The conversations
 continue\n&nbsp\;\n\nCritical reflection involves closely examining all
 aspects of events and experiences from different perspectives. \nEducators
 often frame their reflective practice within a set of overarching
 questions\, developing more specific questions for particular areas of
 enquiry. (My Time\, Our Place Framework For School Age Care In
 Australia)\n\nWe will continue discussing and exploring staff wellbeing in
 the context of OSHC settings with particular attention to developing
 reflective questions that support educator wellbeing in everyday
 practices.\n\nParticipants will engage in conversations with colleagues in
 relation to evaluate the effectiveness of current practices in their OSHC
 services. They will explore and consider other approaches and strategies
 for the ongoing development of staff wellbeing in their OSHC learning
 communities.\n\nPlease note you are not required to have attended the
 previous session to participate in this meeting.\n\nTarget Group \n\nOSHC
 Providers\, Directors and Educators.\n\n&nbsp\;\n\nThere is no on-site
 parking available.  For parking options please refer to the parking map. 
 Tram stop #1 Greenhill Road is a 6-minute walk away.\n\nFor registration
 enquiries please contact Rae Dawkins.\n\n&nbsp\;\nIMPORTANT NOTICE: \nDue
 to current COVID-19 restrictions the AISSA is required to enforce set
 limits on the number of attendees for this event based on social
 distancing and maximum density rules.  To secure your place please
 complete the registration as attendance at the AISSA office without a
 confirmed place may result in being turned away if the event is at
 capacity. 
CATEGORIES:Professional Learning
LOCATION:Association of Independent Schools of SA\, 128 Greenhill Road\,
 Unley\, SA\, 5061\, Australia
GEO:-34.9601578;138.60864300000003
X-APPLE-STRUCTURED-LOCATION;VALUE=URI;X-ADDRESS=128 Greenhill Road\,
 Unley\, SA\, 5061\, Australia;X-APPLE-RADIUS=100;X-TITLE=Association of
 Independent Schools of SA:geo:-34.9601578,138.60864300000003
END:VEVENT
BEGIN:VTIMEZONE
TZID:Australia/Adelaide
X-LIC-LOCATION:Australia/Adelaide
BEGIN:STANDARD
DTSTART:20200405T020000
TZOFFSETFROM:+1030
TZOFFSETTO:+0930
TZNAME:ACST
END:STANDARD
END:VTIMEZONE
END:VCALENDAR