BEGIN:VCALENDAR
VERSION:2.0
PRODID:-//wp-events-plugin.com//7.2.3.1//EN
TZID:Australia/Adelaide
X-WR-TIMEZONE:Australia/Adelaide
BEGIN:VEVENT
UID:429@ais.sa.edu.au
DTSTART;TZID=Australia/Adelaide:20210915T100000
DTEND;TZID=Australia/Adelaide:20210915T120000
DTSTAMP:20210831T042520Z
URL:https://www.ais.sa.edu.au/events/oshc-educators-network-meeting-6-2/
SUMMARY:OSHC Educators’ Network Meeting 6
DESCRIPTION:The OSHC Educators’ Network is structured for OSHC leaders
 and educators from our member schools to engage collaboratively in ways
 which invigorate and enrich practice. It provides a forum for provocation
 and discussion and facilitates a community of practice approach to ongoing
 professional learning. Implementing the My Time Our Place Framework and the
 National Quality Standard\, participants will have the opportunity to visit
 and tour OSHC services and engage in rich group discussions relating to
 current research on educational theories and practices\, focused topics and
 other questions and issues raised.\n\nTerm 3 learning focus: Documenting
 Children’s Individual Progress - Building Deeper Understanding in
 Everyday Practices\n\nThis session will draw upon information shared in the
 previous workshop on 10 August 2021 that focused on current practices
 within our OSHC sector. We will apply knowledge and understanding to
 implement effective documentation that authentically demonstrates
 children's individual progress.\n\n&nbsp\;\n\nTarget audience: OSHC
 Providers\, Directors and Educators\n\nPresenter: Libby Worrell\,
 AISSA\n\nDelivery mode: face to face - if you would like to attend these
 sessions by Zoom\, please register on the AISSA website and then email Rae
 Dawkins to advise.\n\n&nbsp\;\n\nIMPORTANT NOTICE: \n\nDue to current
 COVID-19 restrictions the AISSA is required to enforce set limits on the
 number of attendees for this event based on social distancing and maximum
 density rules. To secure your place please complete the registration as
 attendance at the AISSA office without a confirmed place may result in
 being turned away if the event is at capacity. Visitors to the AISSA office
 must wear a mask at all times\, unless eating or drinking. Anyone unwilling
 to wear a mask will not be permitted entry unless they have an exemption
 based on the identified criteria.\n\n&nbsp\;\n\nThere is no on-site parking
 available.  For parking options please refer to the parking map.  Tram
 stop #1 Greenhill Road is a 6-minute walk away.\n\n&nbsp\;\n\nFor
 registration enquiries please contact Rae Dawkins.\n\n&nbsp\;
CATEGORIES:Professional Learning
LOCATION:Association of Independent Schools of SA\, 128 Greenhill Road\,
 Unley\, SA\, 5061\, Australia
GEO:-34.9601578;138.60864300000003
X-APPLE-STRUCTURED-LOCATION;VALUE=URI;X-ADDRESS=128 Greenhill Road\,
 Unley\, SA\, 5061\, Australia;X-APPLE-RADIUS=100;X-TITLE=Association of
 Independent Schools of SA:geo:-34.9601578,138.60864300000003
END:VEVENT
BEGIN:VTIMEZONE
TZID:Australia/Adelaide
X-LIC-LOCATION:Australia/Adelaide
BEGIN:STANDARD
DTSTART:20210404T020000
TZOFFSETFROM:+1030
TZOFFSETTO:+0930
TZNAME:ACST
END:STANDARD
END:VTIMEZONE
END:VCALENDAR