BEGIN:VCALENDAR
VERSION:2.0
PRODID:-//wp-events-plugin.com//7.2.3.1//EN
TZID:Australia/Adelaide
X-WR-TIMEZONE:Australia/Adelaide
BEGIN:VEVENT
UID:987@ais.sa.edu.au
DTSTART;TZID=Australia/Adelaide:20260625T150000
DTEND;TZID=Australia/Adelaide:20260625T170000
DTSTAMP:20251204T234140Z
URL:https://www.ais.sa.edu.au/events/optimising-deployment-of-teaching-ass
 istants-unpacking-the-aitsl-guidelines-to-leverage-the-impact-of-teaching-
 assistants/
SUMMARY:Optimising deployment of teaching assistants. Unpacking the AITSL
 Guidelines to leverage the Impact of Teaching Assistants
DESCRIPTION:Explore how to maximise the impact of teaching assistants
 through AITSL’s Guidelines for the Optimal Deployment of Teaching
 Assistants in Australian Schools. Designed for school leaders\, teachers\,
 and education support staff\, the session will unpack AITSL’s
 Guidelines and provide opportunities for dialogue and networking across
 the sector.  \n\nYour commitment: 2 contact hours plus any required
 reading.\n\nAITSL Professional Standards for Teachers: Focus areas 6.1\,
 6.2\, 6.3\, 7.1\, 7.2 and 7.4.\n\nDelivery mode: 1 x online
 session.\n\nPresented by: Natalie Jonas\, Head of Member School Programs
 and Engagement\, AISSA and AITSL facilitator.\n\nPrice: There is no charge
 for this session.\n\nDate: 25 June 2026\, 3:00pm-5:00pm\n\nLocation:
 online via Zoom - a link will be sent via email prior to the
 session.\n\nRegistration closes: 27 April 2026 at 5:00pm.\n\nProgram
 Overview: This 2 hour online professional learning session is designed
 to help school leaders\, teachers\, and education support staff maximise
 the contribution of teaching assistants. Drawing on AITSL’s Guidelines
 for the Optimal Deployment of Teaching Assistants in Australian Schools\,
 participants will engage with evidence-informed strategies that promote
 effective collaboration\, role clarity\, and purposeful support for
 learners.\n\nThrough interactive discussion and shared reflection\,
 participants will examine current practices\, explore practical tools\,
 and identify opportunities to strengthen team approaches within their own
 school contexts. Participants will also connect with peers from across the
 sector\, fostering professional networks and shared understanding of how
 to strengthen high impact teams.\n\nProgram Lead: please contact Natalie
 Jonas.\n\nTerms and Conditions: There is no charge for this session. See
 the AISSA’s Professional Learning Terms and Conditions for the full
 registration terms and conditions including the cancellation policy.
CATEGORIES:Leadership and Coaching,Professional Learning,School
 Operations,Wellbeing and Inclusion
END:VEVENT
BEGIN:VTIMEZONE
TZID:Australia/Adelaide
X-LIC-LOCATION:Australia/Adelaide
BEGIN:STANDARD
DTSTART:20260405T020000
TZOFFSETFROM:+1030
TZOFFSETTO:+0930
TZNAME:ACST
END:STANDARD
END:VTIMEZONE
END:VCALENDAR