BEGIN:VCALENDAR
VERSION:2.0
PRODID:-//wp-events-plugin.com//7.2.3.1//EN
TZID:Australia/Adelaide
X-WR-TIMEZONE:Australia/Adelaide
BEGIN:VEVENT
UID:774@ais.sa.edu.au
DTSTART;TZID=Australia/Adelaide:20240514T160000
DTEND;TZID=Australia/Adelaide:20240514T170000
DTSTAMP:20240529T064317Z
URL:https://www.ais.sa.edu.au/events/new-thinking-new-possibilities-stem-w
 ebinar-series-ai-in-schools/
SUMMARY:New Thinking: New Possibilities STEM Webinar Series - AI in Schools
DESCRIPTION:This webinar series will bring together educators from ELC to
 Year 12\, researchers and industry to consider new thinking\, new
 possibilities and explore how STEM education can provide students with new
 opportunities and pathways for a strong and vibrant future.\n\nWebinar 2:
 AI in Schools\n\nThis webinar will enable participants to extend their
 knowledge of AI\, showcase some of the interesting ways that AI is being
 integrated into schools and explore exciting possibilities for use across
 the curriculum.\n\nAudience: STEM Educators\, School Leaders\, Curriculum
 Leaders\n\nDelivery mode: online - a Zoom link will be sent closer to the
 event\n\nPresenters: AISSA Senior Educational Consultants\, expert and
 guest presenters\n\nPrice: $30 (GST inclusive)\n\nBookings for this event
 close at 5.00pm on 08/05/2024.\n\nSee the AISSA Professional Learning
 Terms and Conditions for the full registration terms and conditions
 including the cancellation policy.\n\nFor registration enquiries please
 contact Keira Brault.\n\n&nbsp\;
CATEGORIES:Professional Learning
END:VEVENT
BEGIN:VTIMEZONE
TZID:Australia/Adelaide
X-LIC-LOCATION:Australia/Adelaide
BEGIN:STANDARD
DTSTART:20240407T020000
TZOFFSETFROM:+1030
TZOFFSETTO:+0930
TZNAME:ACST
END:STANDARD
END:VTIMEZONE
END:VCALENDAR