BEGIN:VCALENDAR
VERSION:2.0
PRODID:-//wp-events-plugin.com//7.2.3.1//EN
TZID:Australia/Adelaide
X-WR-TIMEZONE:Australia/Adelaide
BEGIN:VEVENT
UID:434@ais.sa.edu.au
DTSTART;TZID=Australia/Adelaide:20210806T090000
DTEND;TZID=Australia/Adelaide:20210806T170000
DTSTAMP:20210721T020331Z
URL:https://www.ais.sa.edu.au/events/new-thinking-new-possibilities-aissa-
 educational-leaders-stem-conference/
SUMMARY:New Thinking: New Possibilities - AISSA Educational Leaders STEM
 Conference
DESCRIPTION:See the complete AISSA Educational Leaders 2021 STEM Conference
 Program now\n\n&nbsp\;\n\nA full refund will be made should the event be
 cancelled due to COVID-19 restrictions.\n\n&nbsp\;\n\nWhat do we need to
 think about to educate beyond our present? What might the STEM
 possibilities be? How early is too early? What does Artificial Intelligence
 mean for education? What opportunities exist within the Australian
 Curriculum? What is machine learning? How might the space industry shape
 the future?\n\nThe AISSA Educational Leaders STEM Conference 2021 brings
 together educators from the Early Years to Year 12\, researchers and
 industry experts to ignite new thinking and possibilities for the what\,
 the why and the how of STEM rich learning and the opportunities and
 pathways it provides for a strong and vibrant future.\n\nThe conference
 program includes an opportunity to hear from three visionary Keynote
 Speakers and engage in professional conversations\, workshops and a panel
 discussion\, enabling delegates to explore and develop new ideas and
 thinking about the future of STEM Education.\n\nTarget
 audience: Principals\, Deputy Principals\, ELC Directors\, Educational
 Leaders\, Curriculum Leaders\, Lead Teachers from ELC to Year
 12\n\nDelivery mode: face to face\n\nKeynote speakers:\nEducating beyond
 our present\, Emeritus Professor Louise McWhinnie\, University of
 Technology Sydney\nHigh Possibility STEM Classrooms\, Associate Professor
 Jane Hunter\, School of International Studies and Education\, University of
 Technology Sydney\nArtificial Intelligence\, Associate Professor Erica
 Southgate\, School of Education\, University of Newcastle\nCreativity and
 the Future of Work: Developing the Next Generation of STEM Women\,
 Professor David Cropley\, Professor of Engineering Innovation\, University
 of South Australia\n&nbsp\;\n\nConference Cost\nNon Member Schools $450.00
 + GST\nAISSA Member Schools $380.00 +GST (using the booking code which is
 available from AISSA member School Principals)\n\nRefund and Attendance\nIf
 you do not attend the event the AISSA will still incur costs. If notice of
 cancellation is received prior to Friday\, 23 July 2021 a full refund will
 be available. Cancellation after this date will incur the full attendance
 cost.\n\nDue to current COVID-19 restrictions the AISSA is required to
 enforce set limits on the number of attendees for this event based on
 social distancing and maximum density rules. To secure your place please
 follow the link to register. Attendance at the Stamford Grand Hotel\,
 Glenelg without a confirmed place will result in you being turned
 away.\n\n&nbsp\;\n\nRegistration: Via EventBrite - Please Register via this
 link\n\n&nbsp\;\n\nFor further information contact Aleida Mabarrack\,
 Senior Educational Consultant\, AISSA.
CATEGORIES:Professional Learning
LOCATION:Stamford Grand Hotel\, 2 Jetty Road\, Glenelg\, SA\, 5045\,
 Australia
X-APPLE-STRUCTURED-LOCATION;VALUE=URI;X-ADDRESS=2 Jetty Road\, Glenelg\,
 SA\, 5045\, Australia;X-APPLE-RADIUS=100;X-TITLE=Stamford Grand
 Hotel:geo:0,0
END:VEVENT
BEGIN:VTIMEZONE
TZID:Australia/Adelaide
X-LIC-LOCATION:Australia/Adelaide
BEGIN:STANDARD
DTSTART:20210404T020000
TZOFFSETFROM:+1030
TZOFFSETTO:+0930
TZNAME:ACST
END:STANDARD
END:VTIMEZONE
END:VCALENDAR