BEGIN:VCALENDAR
VERSION:2.0
PRODID:-//wp-events-plugin.com//7.2.3.1//EN
TZID:Australia/Adelaide
X-WR-TIMEZONE:Australia/Adelaide
BEGIN:VEVENT
UID:780@ais.sa.edu.au
DTSTART;TZID=Australia/Adelaide:20240524T090000
DTEND;TZID=Australia/Adelaide:20240524T153000
DTSTAMP:20231205T084405Z
URL:https://www.ais.sa.edu.au/events/navigating-the-first-years-early-care
 er-and-mentor-teacher-program-2/
SUMMARY:Navigating the First Years Early Career and Mentor Teacher Program
DESCRIPTION:The professional relationships that an early career teacher
 builds when they first enter the profession are key determinants for their
 continued success and confidence as Educators. Recognising this\, many
 schools intentionally establish professional relationships between early
 career teachers and a mentor teacher as one critical relationship. The
 Navigating the First Years Early Career and Mentor Teacher Program provides
 a unique space for this relationship to grow and flourish\, quarantining
 important time within the busyness of the school year.\n\nOver three days
 in terms 2 and 3\, early career teachers and their mentors engage in
 practice-focused mentoring and the building of a reciprocal and dialogical
 relationship\, to support early career teachers cope with the demands of
 the job\, build morale and increase their knowledge.\n\nThis time will
 focus on:\n\n 	Day 1: Building a practice-focused mentoring relationship
 (Av Swami) + setting personal wellbeing goals (Sam Healy)\n 	Day 2:
 Establishing positive and orderly classrooms (Bill Hansberry)\n 	Day 3:
 Growing Culturally Responsive Teaching (Max Lenoy\, ACARA) + wellbeing
 check in (Sam Healy)\n\nEarly Career Teacher and Mentor Teacher break out
 groups will also facilitate sharing of experiences and support the growing
 of mentoring skills and inter-school collaboration.\n\nThis is a series. 
 By registering you are committing to attending the following
 sessions:\n\nSession 1: 24/05/2024\, 9.00am-3.30pm\nSession 2: 24/06/2024\,
 9.00am-3.30pm\nSession 3: 13/09/2024\, 9.00am-3.30pm\n\nAudience: Teachers
 in their first 1 - 3 years of teaching\, together with their school-based
 mentor/s.  While a 1:1 ratio is encouraged\, it is recognised that this
 may not always be possible.\n\nDelivery mode:
 face-to-face\n\nPresenters:\nAv Swami\, Growth Coaching International\nBill
 Hansberry\, Hansberry Consulting\nSam Healy\, Be &amp\; Co\nMax Lenov\,
 ACARA\nDesiree Gilbert\, AISSA Senior Educational Consultant\nLynda
 Secombe\, AISSA Senior Educational Consultant\n\nPrice: $880.00 (GST
 inclusive) per school team (comprising one early career teacher and one
 mentor).  Additional early career teachers and mentors are most welcome to
 join the school team at a charge of $100.00 (GST inclusive) per
 person.\n\nBookings for this series close at 5.00pm on 10/05/2024.\n\nTo
 register your school team please visit this link.\n\nSee the AISSA
 Professional Learning Terms and Conditions for the full registration terms
 and conditions including the cancellation policy.\n\nFor registration
 enquiries please contact Keira Brault.\n\n&nbsp\;
CATEGORIES:Professional Learning
LOCATION:Association of Independent Schools of SA\, 128 Greenhill Road\,
 Unley\, SA\, 5061\, Australia
GEO:-34.9601578;138.60864300000003
X-APPLE-STRUCTURED-LOCATION;VALUE=URI;X-ADDRESS=128 Greenhill Road\,
 Unley\, SA\, 5061\, Australia;X-APPLE-RADIUS=100;X-TITLE=Association of
 Independent Schools of SA:geo:-34.9601578,138.60864300000003
END:VEVENT
BEGIN:VTIMEZONE
TZID:Australia/Adelaide
X-LIC-LOCATION:Australia/Adelaide
BEGIN:STANDARD
DTSTART:20240407T020000
TZOFFSETFROM:+1030
TZOFFSETTO:+0930
TZNAME:ACST
END:STANDARD
END:VTIMEZONE
END:VCALENDAR