BEGIN:VCALENDAR
VERSION:2.0
PRODID:-//wp-events-plugin.com//7.2.3.1//EN
TZID:Australia/Adelaide
X-WR-TIMEZONE:Australia/Adelaide
BEGIN:VEVENT
UID:441@ais.sa.edu.au
DTSTART;TZID=Australia/Adelaide:20211101T090000
DTEND;TZID=Australia/Adelaide:20211101T150000
DTSTAMP:20211027T021228Z
URL:https://www.ais.sa.edu.au/events/nationally-consistent-collection-data
 -nccd-session-3-3/
SUMMARY:Nationally Consistent Collection of Data (NCCD)\, session 3 of 3
DESCRIPTION:Venue: Immanuel College\n\nThe national data collection on
 students with disability acknowledges the work already undertaken in
 schools to support students with disability. It assists schools to identify
 and to support students with disability so they can access and participate
 in education on the same basis as their peers.\n\nThis workshop series will
 assist Inclusive Education Coordinators and school leaders to develop a
 sound understanding of the legal obligations and levels of educational
 adjustment and\, therefore\, to improve the quality and consistent
 application of definitions under the NCCD model.\n\nThese workshops will be
 held over three terms and are designed for key staff members responsible
 for the data collection. Participants will build upon their working
 knowledge of the NCCD model and consider their role in supporting related
 whole school practice.\n\nTarget audience: Inclusive Education Coordinators
 and leadership team members\n\nDelivery mode: Face to
 face\n\nPresenters:\nAlice Duffield\, AISSA\nMelissa Symonds\,
 AISSA\n\n&nbsp\;\n\nIMPORTANT NOTICE: \n\n\n\n\nTo meet SA’s COVID-19
 restrictions Immanuel College must enforce set limits on the number of
 attendees for this event based on current social distancing and density
 rules.  To secure your place please complete the registration as
 attendance without a confirmed booking may result in being turned away if
 the event is at capacity.  Visitors to Immanuel College office must wear a
 mask in circumstances where you cannot maintain a 1.5m physical distance
 from others onsite\, unless you have a lawful exemption.  You may remove
 your mask for food and drink consumption only.\n\n&nbsp\;\n\nFor
 registration enquiries please contact Rae Dawkins.\n\n\n\n
CATEGORIES:Professional Learning
LOCATION:Immanuel College\, 32 Morphett Road\, Novar Gardens\, SA\, 5040\,
 Australia
X-APPLE-STRUCTURED-LOCATION;VALUE=URI;X-ADDRESS=32 Morphett Road\, Novar
 Gardens\, SA\, 5040\, Australia;X-APPLE-RADIUS=100;X-TITLE=Immanuel
 College:geo:0,0
END:VEVENT
BEGIN:VTIMEZONE
TZID:Australia/Adelaide
X-LIC-LOCATION:Australia/Adelaide
BEGIN:DAYLIGHT
DTSTART:20211003T030000
TZOFFSETFROM:+0930
TZOFFSETTO:+1030
TZNAME:ACDT
END:DAYLIGHT
END:VTIMEZONE
END:VCALENDAR