BEGIN:VCALENDAR
VERSION:2.0
PRODID:-//wp-events-plugin.com//7.2.3.1//EN
TZID:Australia/Adelaide
X-WR-TIMEZONE:Australia/Adelaide
BEGIN:VEVENT
UID:440@ais.sa.edu.au
DTSTART;TZID=Australia/Adelaide:20210618T090000
DTEND;TZID=Australia/Adelaide:20210618T150000
DTSTAMP:20210407T004035Z
URL:https://www.ais.sa.edu.au/events/nationally-consistent-collection-data
 -nccd-session-2-3/
SUMMARY:Nationally Consistent Collection of Data (NCCD)\, session 2 of 3
DESCRIPTION:Venue: Immanuel College\n\nThe national data collection on
 students with disability acknowledges the work already undertaken in
 schools to support students with disability. It assists schools to identify
 and to support students with disability so they can access and participate
 in education on the same basis as their peers.\n\nThis workshop series will
 assist Inclusive Education Coordinators and school leaders to develop a
 sound understanding of the legal obligations and levels of educational
 adjustment and\, therefore\, to improve the quality and consistent
 application of definitions under the NCCD model.\n\nThese workshops will be
 held over three terms and are designed for key staff members responsible
 for the data collection. Participants will build upon their working
 knowledge of the NCCD model and consider their role in supporting related
 whole school practice.\n\n&nbsp\;\n\nTarget audience: Inclusive Education
 Coordinators and leadership team members\n\nDelivery mode: Zoom (day 1)\,
 face to face (days 2 and 3)\n\nPresenters:\nAlice Duffield\, AISSA\nMelissa
 Symonds\, AISSA\n\n&nbsp\;\n\nSessions in this series (attendance at all
 three sessions is required):\n\n5 March\, 9.00 am – 12.00 pm via Zoom\n18
 June\, 9.00 am – 3.00 pm - Immanuel College\n1 November\, 9.00 am –
 3.00 pm - Immanuel College\n\n&nbsp\;\n\n\n\n\nIMPORTANT NOTICE: \n\nDue
 to current COVID-19 restrictions the AISSA is required to enforce set
 limits on the number of attendees for this event based on social
 distancing and maximum density rules.  To secure your place please
 complete the registration as attendance at the AISSA office without a
 confirmed place may result in being turned away if the event is at
 capacity.\n\nFor registration enquiries please contact Rae
 Dawkins.\n\nPlease see the AISSA’s Video Conferencing Collection Notice
 and Video Conferencing Privacy Disclosure Statement for information about
 the AISSA’s collection of personal information through video
 conferencing.\n\n\nA Zoom link for day 1 will be sent closer to the
 event.\n\n\n\n
CATEGORIES:Professional Learning
LOCATION:Immanuel College\, 32 Morphett Road\, Novar Gardens\, SA\, 5040\,
 Australia
X-APPLE-STRUCTURED-LOCATION;VALUE=URI;X-ADDRESS=32 Morphett Road\, Novar
 Gardens\, SA\, 5040\, Australia;X-APPLE-RADIUS=100;X-TITLE=Immanuel
 College:geo:0,0
END:VEVENT
BEGIN:VTIMEZONE
TZID:Australia/Adelaide
X-LIC-LOCATION:Australia/Adelaide
BEGIN:STANDARD
DTSTART:20210404T020000
TZOFFSETFROM:+1030
TZOFFSETTO:+0930
TZNAME:ACST
END:STANDARD
END:VTIMEZONE
END:VCALENDAR