BEGIN:VCALENDAR
VERSION:2.0
PRODID:-//wp-events-plugin.com//7.2.3.1//EN
TZID:Australia/Adelaide
X-WR-TIMEZONE:Australia/Adelaide
BEGIN:VEVENT
UID:439@ais.sa.edu.au
DTSTART;TZID=Australia/Adelaide:20210305T090000
DTEND;TZID=Australia/Adelaide:20210305T120000
DTSTAMP:20210302T021758Z
URL:https://www.ais.sa.edu.au/events/nationally-consistent-collection-data
 -nccd-session-1-3/
SUMMARY:Nationally Consistent Collection of Data (NCCD)\, session 1 of 3
DESCRIPTION:The national data collection on students with disability
 acknowledges the work already undertaken in schools to support students
 with disability. It assists schools to identify and to support students
 with disability so they can access and participate in education on the same
 basis as their peers.\n\nThis workshop series will assist Inclusive
 Education Coordinators and school leaders to develop a sound understanding
 of the legal obligations and levels of educational adjustment and\,
 therefore\, to improve the quality and consistent application of
 definitions under the NCCD model.\n\nThese workshops will be held over
 three terms and are designed for key staff members responsible for the data
 collection. Participants will build upon their working knowledge of the
 NCCD model and consider their role in supporting related whole school
 practice.\n\n&nbsp\;\n\nTarget audience: Inclusive Education Coordinators
 and leadership team members\n\nDelivery mode: Zoom (day 1)\, face to face
 (days 2 and 3)\n\nPresenters:\nAlice Duffield\, AISSA\nMelissa Symonds\,
 AISSA\n\n&nbsp\;\n\nSessions in this series (attendance at all three
 sessions is required):\n\n5 March\, 9.00 am – 12.00 pm - via Zoom\n18
 June\, 9.00 am – 3.00 pm - Immanuel College\n1 November\, 9.00 am –
 3.00 pm - Immanuel College\n\n&nbsp\;\n\n\n\nA Zoom link for day 1 will be
 sent closer to the event.\n\n\n\n
CATEGORIES:Professional Learning
END:VEVENT
BEGIN:VTIMEZONE
TZID:Australia/Adelaide
X-LIC-LOCATION:Australia/Adelaide
BEGIN:DAYLIGHT
DTSTART:20201004T030000
TZOFFSETFROM:+0930
TZOFFSETTO:+1030
TZNAME:ACDT
END:DAYLIGHT
END:VTIMEZONE
END:VCALENDAR