BEGIN:VCALENDAR
VERSION:2.0
PRODID:-//wp-events-plugin.com//7.2.3.1//EN
TZID:Australia/Adelaide
X-WR-TIMEZONE:Australia/Adelaide
BEGIN:VEVENT
UID:377@ais.sa.edu.au
DTSTART;TZID=Australia/Adelaide:20210317T093000
DTEND;TZID=Australia/Adelaide:20210317T123000
DTSTAMP:20210311T222744Z
URL:https://www.ais.sa.edu.au/events/national-literacy-numeracy-learning-p
 rogressions-masterclass-1a-can-optimise-use-schools-support-student-learni
 ng/
SUMMARY:National Literacy and Numeracy Learning Progressions Masterclass
 1a: What are they and how can we optimise their use in schools to support
 student learning? Years F - 7
DESCRIPTION:How might we use the National Literacy and Numeracy Learning
 Progressions\, (v.3) to:\n\n 	Facilitate a shared professional
 understanding of student’s expected literacy and numeracy development?\n
 	Identify the literacy and numeracy knowledge that enables students to
 access content across learning areas?\n 	Locate the current literacy and
 numeracy development of students?\n 	Identify where to next for students in
 their literacy and numeracy development?\n 	Inform and intentionally plan
 learning and teaching?\n 	Inform student feedback and student goal
 setting?\n\nThese questions will frame information presented during two
 half day zoom masterclasses focussed on The National Literacy and Numeracy
 Progressions (NLNLP) v.3.\n\nExamples of use for classroom and specialist
 teachers and students in primary and secondary contexts will be
 provided.\n\n&nbsp\;\n\nTarget audience: Curriculum and pedagogical leaders
 and specialist teachers years F – 7\n\nDelivery
 mode: Zoom\n\nPresenters:\nDesiree Gilbert\, AISSA\nRosemary Kadow\,
 AISSA\n\nSessions in this series (please register for all sessions relevant
 to your school's context):\nMasterclass 1a for leaders and teachers years
 F-7\nMasterclass 1b for leaders and teachers years 7 – 10\, Thursday 18
 March\, 9.00am – 12.30pm\nMasterclass 2 is designed for all leaders and
 teachers years F – 10\, Friday 26 March\, 9.00am – 12.30pm\n\nPlease
 see the AISSA’s Video Conferencing Collection Notice and Video
 Conferencing Privacy Disclosure Statement for information about the
 AISSA’s collection of personal information through video
 conferencing.\n\nA Zoom link will be sent closer to the
 event.\n\n&nbsp\;\n\nFor registration enquiries please contact Emily
 Metelmann.
CATEGORIES:Professional Learning
END:VEVENT
BEGIN:VTIMEZONE
TZID:Australia/Adelaide
X-LIC-LOCATION:Australia/Adelaide
BEGIN:DAYLIGHT
DTSTART:20201004T030000
TZOFFSETFROM:+0930
TZOFFSETTO:+1030
TZNAME:ACDT
END:DAYLIGHT
END:VTIMEZONE
END:VCALENDAR