BEGIN:VCALENDAR
VERSION:2.0
PRODID:-//wp-events-plugin.com//7.2.3.1//EN
TZID:Australia/Adelaide
X-WR-TIMEZONE:Australia/Adelaide
BEGIN:VEVENT
UID:404@ais.sa.edu.au
DTSTART;TZID=Australia/Adelaide:20210506T153000
DTEND;TZID=Australia/Adelaide:20210506T170000
DTSTAMP:20210317T054745Z
URL:https://www.ais.sa.edu.au/events/naplan-protocol-session-paper-mode-te
 st/
SUMMARY:NAPLAN Protocol Session: Paper Mode of Test
DESCRIPTION:ACARA annually updates the national NAPLAN Test Administration
 protocols for schools. This is published in the Handbook for Principals
 (paper mode) and distributed to schools early in Term 1.\n\nThe protocol
 session provides important information about:\n\n 	2021 NAPLAN paper mode
 protocols\n 	critical dates\n 	the Student Participation Website\n
 	delivery and return of test materials\n\nParticipants are requested to
 have the 2021 Handbook for Principals (paper mode) available to them during
 the session.\n\nIt is recommended that a representative from each NAPLAN
 paper mode school attends the session. Participants are requested to have
 either an electronic or hard copy of the Handbook for Principals (paper
 mode) available to them during the session.\n\nTarget audience:
 Principals\, School Leaders and NAPLAN Coordinators\n\nDelivery
 mode: Zoom\n\nPresenter: Desiree Gilbert\, AISSA\n\n&nbsp\;\n\nFor
 registration enquiries please contact Emily Metelmann.\n\nPlease see the
 AISSA’s Video Conferencing Collection Notice and Video Conferencing
 Privacy Disclosure Statement for information about the AISSA’s collection
 of personal information through video conferencing.\n\nA Zoom link will be
 sent closer to the event.
CATEGORIES:Professional Learning
END:VEVENT
BEGIN:VTIMEZONE
TZID:Australia/Adelaide
X-LIC-LOCATION:Australia/Adelaide
BEGIN:STANDARD
DTSTART:20210404T020000
TZOFFSETFROM:+1030
TZOFFSETTO:+0930
TZNAME:ACST
END:STANDARD
END:VTIMEZONE
END:VCALENDAR