BEGIN:VCALENDAR
VERSION:2.0
PRODID:-//wp-events-plugin.com//7.2.3.1//EN
TZID:Australia/Adelaide
X-WR-TIMEZONE:Australia/Adelaide
BEGIN:VEVENT
UID:405@ais.sa.edu.au
DTSTART;TZID=Australia/Adelaide:20210505T153000
DTEND;TZID=Australia/Adelaide:20210505T170000
DTSTAMP:20210317T054431Z
URL:https://www.ais.sa.edu.au/events/naplan-protocol-session-online-mode-t
 est-option-1/
SUMMARY:NAPLAN Protocol Session: Online Mode of Test\, option 1
DESCRIPTION:ACARA annually updates the national NAPLAN Test Administration
 protocols for online mode schools and this information will be available to
 schools in the Handbook for Principals (online mode) distributed to schools
 early in Term 1.\n\nThe protocol session will be held after the Coordinated
 Practice Test (CPT) to:\n\n 	debrief on school CPT experiences\n 	become
 familiar with the 2021 NAPLAN online protocols and\n 	become familiar with
 the guidelines for managing and responding to technical incidents\n
 	consider risk mitigation activities for your school’s context.\n\nIt is
 recommended that a representative from each NAPLAN online school attend one
 of these sessions. Participants are requested to have either an electronic
 or hard copy of the Handbook for Principals (online mode) available to them
 during the session.\n\nTarget audience: Principals\, School Leaders and
 NAPLAN Coordinators\n\nDelivery mode: Zoom\n\nPresenters:\nRosemary Kadow\,
 AISSA\nLynda Secombe\, AISSA\n\n&nbsp\;\n\nFor registration enquiries
 please contact Emily Metelmann.\n\nPlease see the AISSA’s Video
 Conferencing Collection Notice and Video Conferencing Privacy Disclosure
 Statement for information about the AISSA’s collection of personal
 information through video conferencing.\n\nA Zoom link will be sent closer
 to the event.
CATEGORIES:Professional Learning
END:VEVENT
BEGIN:VTIMEZONE
TZID:Australia/Adelaide
X-LIC-LOCATION:Australia/Adelaide
BEGIN:STANDARD
DTSTART:20210404T020000
TZOFFSETFROM:+1030
TZOFFSETTO:+0930
TZNAME:ACST
END:STANDARD
END:VTIMEZONE
END:VCALENDAR