BEGIN:VCALENDAR
VERSION:2.0
PRODID:-//wp-events-plugin.com//7.2.3.1//EN
TZID:Australia/Adelaide
X-WR-TIMEZONE:Australia/Adelaide
BEGIN:VEVENT
UID:407@ais.sa.edu.au
DTSTART;TZID=Australia/Adelaide:20210309T153000
DTEND;TZID=Australia/Adelaide:20210309T163000
DTSTAMP:20210308T230105Z
URL:https://www.ais.sa.edu.au/events/naplan-protocol-session-adjustments-s
 tudents-disabilities-within-online-platform/
SUMMARY:NAPLAN Protocol Session: Adjustments for Students with Disabilities
 within the online platform
DESCRIPTION:The focus of this session is the NAPLAN Online environment and
 understanding adjustments the online platform affords students together
 with the process for determining if students require an
 adjustment.\n\nNational protocols related to adjustments for students with
 disability\, the Guide that details the process and critical timelines will
 be discussed.\n\nParticipants are required to have an electronic or hard
 copy of the:\n\n 	2021 Handbook for Principals (Online) and\n 	Guide for
 Schools to Assist Students with Disability to Access NAPLAN
 Online.\n\nTarget audience:\n\nSchools undertaking NAPLAN Online in
 2021\n\nPrincipals and teachers responsible for liaising with students and
 families regarding adjustments within the context of NAPLAN and the online
 platform.\n\nDelivery mode: Zoom\n\nPresenters:\nAlice Duffield\,
 AISSA\nMelissa Symonds\, AISSA\n\n&nbsp\;\n\nFor registration enquiries
 please contact Emily Metelmann.\n\nPlease see the AISSA’s Video
 Conferencing Collection Notice and Video Conferencing Privacy Disclosure
 Statement for information about the AISSA’s collection of personal
 information through video conferencing.\n\nA Zoom link will be sent closer
 to the event.
CATEGORIES:Professional Learning
END:VEVENT
BEGIN:VTIMEZONE
TZID:Australia/Adelaide
X-LIC-LOCATION:Australia/Adelaide
BEGIN:DAYLIGHT
DTSTART:20201004T030000
TZOFFSETFROM:+0930
TZOFFSETTO:+1030
TZNAME:ACDT
END:DAYLIGHT
END:VTIMEZONE
END:VCALENDAR