BEGIN:VCALENDAR
VERSION:2.0
PRODID:-//wp-events-plugin.com//7.2.3.1//EN
TZID:Australia/Adelaide
X-WR-TIMEZONE:Australia/Adelaide
BEGIN:VEVENT
UID:409@ais.sa.edu.au
DTSTART;TZID=Australia/Adelaide:20210726T090000
DTEND;TZID=Australia/Adelaide:20210726T130000
DTSTAMP:20210720T044257Z
URL:https://www.ais.sa.edu.au/events/naplan-online-school-readiness-test-s
 rt-training/
SUMMARY:NAPLAN Online: School Readiness Test (SRT) Training - via Zoom
DESCRIPTION:Ministers have agreed that all schools will transition to the
 online mode of NAPLAN by 2022.  In order to ensure readiness for the
 online environment\, all schools yet to transition are required to
 participate in the SRT in Term 3 during weeks 5 and 6 (SRT dates to be
 confirmed at a national level).\n\nThe SRT simulates a NAPLAN test
 experience for NAPLAN Coordinators\, teachers administering the test and
 students undertaking the test in the online platform. The purpose being to
 support schools ascertain their readiness for NAPLAN online\, specifically
 in the areas of:\n\n 	scheduling of sessions and managing of testing
 logistics\n 	ensuring sufficient technical capacity\n 	Supporting teachers
 and student readiness.\n\nThe training day will provide insight into the
 assessment platform and will equip NAPLAN Coordinators to complete
 readiness activities and train their school-based test
 administrators.\n\nPre workshop preparation\n\nEach participant is required
 to:\n\n 	bring a charged\, internet enabled\, wireless device that complies
 with the NAPLAN online testing specifications\n 	download and install onto
 their device the most recent version of the National Assessment Program
 lock down browser.\n\nIt is recommended that a NAPLAN Coordinator attend
 with one teacher who will undertake the role of test administrator (a
 maximum of two participants per school).\n\n&nbsp\;\n\nTarget audience:
 NAPLAN Coordinators and one teacher who will take on the role of test
 administrator\n\nDelivery mode: Face to face\n\nPresenter: Lynda Secombe\,
 AISSA\n\n&nbsp\;\n\nIMPORTANT NOTICE: \n\nPlease see the AISSA’s Video
 Conferencing Collection Notice and Video Conferencing Privacy Disclosure
 Statement for information about the AISSA’s collection of personal
 information through video conferencing.\n\nFor registration enquiries
 please contact Emily Metelmann.\n\nA Zoom link will be sent to registered
 participants.
CATEGORIES:Professional Learning
END:VEVENT
BEGIN:VTIMEZONE
TZID:Australia/Adelaide
X-LIC-LOCATION:Australia/Adelaide
BEGIN:STANDARD
DTSTART:20210404T020000
TZOFFSETFROM:+1030
TZOFFSETTO:+0930
TZNAME:ACST
END:STANDARD
END:VTIMEZONE
END:VCALENDAR