BEGIN:VCALENDAR
VERSION:2.0
PRODID:-//wp-events-plugin.com//7.2.3.1//EN
TZID:Australia/Adelaide
X-WR-TIMEZONE:Australia/Adelaide
BEGIN:VEVENT
UID:402@ais.sa.edu.au
DTSTART;TZID=Australia/Adelaide:20210226T090000
DTEND;TZID=Australia/Adelaide:20210226T120000
DTSTAMP:20201202T034756Z
URL:https://www.ais.sa.edu.au/events/naplan-online-assessment-platform-tra
 ining-refresher-option-2-2/
SUMMARY:NAPLAN Online Assessment Platform Training Refresher\, option 2
DESCRIPTION:Confidence with the NAPLAN Online Assessment Platform (the
 Platform) and the key school implementation roles and responsibilities is
 integral to success during the NAPLAN testing period.\n\nThis session is
 designed to support the school NAPLAN Coordinator to re-familiarise
 themselves with the Platform\, as well as the key preparation and training
 activities required within schools in the lead up to both the national
 Coordinated Practice Test on 25 March and the Term 2 NAPLAN tests in
 May.\n\nThis three-hour session via zoom will focus on:\n\n 	platform
 orientation refresher\n 	key coordination tasks\n 	resources available for
 training Test Administrators\n 	the National Coordinated Practice test\n
 	essential guides and resources.\n\nParticipants should attend only one of
 the two sessions available.\n\nTarget audience: NAPLAN
 Coordinators\n\nDelivery mode: Zoom\n\nPresenters:\nDesiree Gilbert\,
 AISSA\nRosemary Kadow\, AISSA\nLynda Secombe\, AISSA\n\n&nbsp\;\n\nFor
 registration enquiries please contact Emily Metelmann.\n\nPlease see the
 AISSA’s Video Conferencing Collection Notice and Video Conferencing
 Privacy Disclosure Statement for information about the AISSA’s collection
 of personal information through video conferencing.\n\nA Zoom link will be
 sent closer to the event.
CATEGORIES:Professional Learning
END:VEVENT
BEGIN:VTIMEZONE
TZID:Australia/Adelaide
X-LIC-LOCATION:Australia/Adelaide
BEGIN:DAYLIGHT
DTSTART:20201004T030000
TZOFFSETFROM:+0930
TZOFFSETTO:+1030
TZNAME:ACDT
END:DAYLIGHT
END:VTIMEZONE
END:VCALENDAR