BEGIN:VCALENDAR
VERSION:2.0
PRODID:-//wp-events-plugin.com//7.2.3.1//EN
TZID:Australia/Adelaide
X-WR-TIMEZONE:Australia/Adelaide
BEGIN:VEVENT
UID:709@ais.sa.edu.au
DTSTART;TZID=Australia/Adelaide:20230809T083000
DTEND;TZID=Australia/Adelaide:20230809T173000
DTSTAMP:20230127T060616Z
URL:https://www.ais.sa.edu.au/events/mini-certificate-in-gifted-education-
 coge/
SUMMARY:Mini Certificate in Gifted Education (COGE)
DESCRIPTION:The GERRIC’s Mini-COGE course provides practical professional
 development for educators to support high potential and gifted students.
 High potential students are not necessarily high achievers\, and this
 course will focus on strategies to engage and support these students to
 reach their potential.\n\nThe Mini-COGE will help educators to:\n\n
 	identify gifted\, high potential and talented students\n 	differentiate
 the curriculum for high potential students\n 	implement ability grouping or
 acceleration\n 	understand gifted education research and best practices
 and\n 	develop an existing (or create a new) unit of work to best suit the
 needs of the differentiated classroom and gifted students.\n\nUniversity of
 NSW (UNSW)\, Sydney will facilitate this GERRIC course\, and it will be
 delivered over a period of two consecutive days.\n\nThis is a series. By
 registering you are committing to attending the following sessions:\n\n9
 August\, 8.30am – 5.30pm\n10 August\, 8.30am – 5.30pm\n\nAudience:
 educators with an interest in gifted education\n\nDelivery mode: face to
 face\n\nFacilitated by UNSW Sydney\n\nFor registration enquiries please
 contact Rae Dawkins.\n\nRegistrations for this series can be made by
 completing the Expression of Interest.
CATEGORIES:Professional Learning
LOCATION:Association of Independent Schools of SA\, 128 Greenhill Road\,
 Unley\, SA\, 5061\, Australia
GEO:-34.9601578;138.60864300000003
X-APPLE-STRUCTURED-LOCATION;VALUE=URI;X-ADDRESS=128 Greenhill Road\,
 Unley\, SA\, 5061\, Australia;X-APPLE-RADIUS=100;X-TITLE=Association of
 Independent Schools of SA:geo:-34.9601578,138.60864300000003
END:VEVENT
BEGIN:VTIMEZONE
TZID:Australia/Adelaide
X-LIC-LOCATION:Australia/Adelaide
BEGIN:STANDARD
DTSTART:20230402T020000
TZOFFSETFROM:+1030
TZOFFSETTO:+0930
TZNAME:ACST
END:STANDARD
END:VTIMEZONE
END:VCALENDAR