BEGIN:VCALENDAR
VERSION:2.0
PRODID:-//wp-events-plugin.com//7.2.3.1//EN
TZID:Australia/Adelaide
X-WR-TIMEZONE:Australia/Adelaide
BEGIN:VEVENT
UID:321@ais.sa.edu.au
DTSTART;TZID=Australia/Adelaide:20200822T093000
DTEND;TZID=Australia/Adelaide:20200822T123000
DTSTAMP:20200814T043245Z
URL:https://www.ais.sa.edu.au/events/mean-board-workshop-new-board-members
 -3/
SUMMARY:What Does It Mean to be on a Board? A Workshop for New Board
 Members
DESCRIPTION:This workshop is designed for those who are new to School Board
 work. It will focus on good governance practices including:\n\n 	particular
 responsibilities for School Board members\n 	roles and responsibilities
 including legal\, compliance and fiduciary responsibilities\n 	what it
 means to be an effective School Board member regarding participation\,
 relationships\, confidentiality and meeting
 procedures.\n\n&nbsp\;\n\nPresented by David Spear\, Director\,
 VUCA\n\nVUCA is a boutique advisory firm which helps organisations deal
 with critical challenges – particularly volatility\, uncertainty\,
 complexity and ambiguity. David Spear was previously the State Director of
 the Australian Institute of Company Directors SA/NT and is a 2013 alumnus
 of the prestigious Harvard Business School Governance
 Program.\n\n&nbsp\;\nIMPORTANT NOTICE: \nDue to current
 COVID-19 restrictions the AISSA is required to enforce set limits on the
 number of attendees for this event based on social distancing and maximum
 density rules.  To secure your place please complete the registration as
 attendance at the AISSA office without a confirmed place may result in
 being turned away if the event is at capacity. \n&nbsp\;\n\nFor
 registration enquiries please contact Emily Metelmann.\n\nThere is no
 on-site parking available.  For parking options please refer to
 the parking map.  Tram stop #1 Greenhill Road is a 6-minute walk away.
CATEGORIES:Leadership and Coaching,Professional Learning,Public Event
LOCATION:Association of Independent Schools of SA\, 128 Greenhill Road\,
 Unley\, SA\, 5061\, Australia
GEO:-34.9601578;138.60864300000003
X-APPLE-STRUCTURED-LOCATION;VALUE=URI;X-ADDRESS=128 Greenhill Road\,
 Unley\, SA\, 5061\, Australia;X-APPLE-RADIUS=100;X-TITLE=Association of
 Independent Schools of SA:geo:-34.9601578,138.60864300000003
END:VEVENT
BEGIN:VTIMEZONE
TZID:Australia/Adelaide
X-LIC-LOCATION:Australia/Adelaide
BEGIN:STANDARD
DTSTART:20200405T020000
TZOFFSETFROM:+1030
TZOFFSETTO:+0930
TZNAME:ACST
END:STANDARD
END:VTIMEZONE
END:VCALENDAR