BEGIN:VCALENDAR
VERSION:2.0
PRODID:-//wp-events-plugin.com//7.2.3.1//EN
TZID:Australia/Adelaide
X-WR-TIMEZONE:Australia/Adelaide
BEGIN:VEVENT
UID:515@ais.sa.edu.au
DTSTART;TZID=Australia/Adelaide:20220317T160000
DTEND;TZID=Australia/Adelaide:20220317T173000
DTSTAMP:20220316T002020Z
URL:https://www.ais.sa.edu.au/events/legal-series-strategies-minimise-inap
 propriate-parent-behaviour-breaches-schools-code-conduct/
SUMMARY:Legal Series: Strategies to Minimise Inappropriate Parent Behaviour
 that Breaches the School’s Code of Conduct
DESCRIPTION:This session will discuss a school’s duty of care with a
 focus on child protection\, and student and parent behaviours that foster
 respectful and safe environments in schools.\n\n&nbsp\;\n\nTarget audience
 – principals\n\nDelivery mode – Zoom\n\nPresenters – Sonia
 Albertini\, Head of Legal Services\, AISSA\n\n&nbsp\;\n\nFor registration
 enquiries please contact Sonia Harrison.\n\nA Zoom link will be sent closer
 to the event.
CATEGORIES:Leadership and Coaching,Professional Learning
END:VEVENT
BEGIN:VTIMEZONE
TZID:Australia/Adelaide
X-LIC-LOCATION:Australia/Adelaide
BEGIN:DAYLIGHT
DTSTART:20211003T030000
TZOFFSETFROM:+0930
TZOFFSETTO:+1030
TZNAME:ACDT
END:DAYLIGHT
END:VTIMEZONE
END:VCALENDAR