BEGIN:VCALENDAR
VERSION:2.0
PRODID:-//wp-events-plugin.com//7.2.3.1//EN
TZID:Australia/Adelaide
X-WR-TIMEZONE:Australia/Adelaide
BEGIN:VEVENT
UID:478@ais.sa.edu.au
DTSTART;TZID=Australia/Adelaide:20210617T160000
DTEND;TZID=Australia/Adelaide:20210617T173000
DTSTAMP:20210406T233606Z
URL:https://www.ais.sa.edu.au/events/legal-series-strategies-minimise-inap
 propriate-parent-behaviour-breaches-schools-code-conduct-2/
SUMMARY:Legal Series: Strategies to Minimise Inappropriate Parent Behaviour
 that Breaches the School's Code of Conduct
DESCRIPTION:This seminar will discuss strategies that will support school
 staff to work in a safe environment that fosters respectful environments in
 schools and raises community awareness of the issue.\n\n&nbsp\;\n\nDelivery
 mode: face to face\n\nPresenters: Sonia Albertini\,
 AISSA\n\n&nbsp\;\n\nIMPORTANT NOTICE: \n\nDue to current
 COVID-19 restrictions the AISSA is required to enforce set limits on the
 number of attendees for this event based on social distancing and maximum
 density rules.  To secure your place please complete the registration as
 attendance at the AISSA office without a confirmed place may result in
 being turned away if the event is at capacity.\n\nThere is no on-site
 parking available.  For parking options please refer to the parking
 map.  Tram stop #1 Greenhill Road is a 6-minute walk
 away.\n\n&nbsp\;\n\nFor registration enquiries please contact Sonia
 Harrison.
CATEGORIES:Leadership and Coaching,Professional Learning
LOCATION:Association of Independent Schools of SA\, 128 Greenhill Road\,
 Unley\, SA\, 5061\, Australia
GEO:-34.9601578;138.60864300000003
X-APPLE-STRUCTURED-LOCATION;VALUE=URI;X-ADDRESS=128 Greenhill Road\,
 Unley\, SA\, 5061\, Australia;X-APPLE-RADIUS=100;X-TITLE=Association of
 Independent Schools of SA:geo:-34.9601578,138.60864300000003
END:VEVENT
BEGIN:VTIMEZONE
TZID:Australia/Adelaide
X-LIC-LOCATION:Australia/Adelaide
BEGIN:STANDARD
DTSTART:20210404T020000
TZOFFSETFROM:+1030
TZOFFSETTO:+0930
TZNAME:ACST
END:STANDARD
END:VTIMEZONE
END:VCALENDAR