BEGIN:VCALENDAR
VERSION:2.0
PRODID:-//wp-events-plugin.com//7.2.3.1//EN
TZID:Australia/Adelaide
X-WR-TIMEZONE:Australia/Adelaide
BEGIN:VEVENT
UID:470@ais.sa.edu.au
DTSTART;TZID=Australia/Adelaide:20210323T160000
DTEND;TZID=Australia/Adelaide:20210323T173000
DTSTAMP:20210217T040324Z
URL:https://www.ais.sa.edu.au/events/legal-series-managing-investigating-c
 hild-protection-breach/
SUMMARY:Legal Series: Managing and Investigating a Child Protection Breach
DESCRIPTION:The session will detail the steps that are to be taken when a
 breach or potential breach to a  School’s Child protection policy is
 discovered. It will also outline the range of consequences and follow up
 action required depending on the severity of the
 breach.\n\n&nbsp\;\n\nDelivery mode: face to face\n\nPresenter: Sonia
 Albertini\, AISSA\n\n&nbsp\;\n\nIMPORTANT NOTICE: \n\nDue to current
 COVID-19 restrictions the AISSA is required to enforce set limits on the
 number of attendees for this event based on social distancing and maximum
 density rules.  To secure your place please complete the registration as
 attendance at the AISSA office without a confirmed place may result in
 being turned away if the event is at capacity.\n\nThere is no on-site
 parking available.  For parking options please refer to the parking
 map.  Tram stop #1 Greenhill Road is a 6-minute walk
 away.\n\n&nbsp\;\n\nFor registration enquiries please contact Sonia
 Harrison.\n\n&nbsp\;
CATEGORIES:Leadership and Coaching,Professional Learning
LOCATION:Association of Independent Schools of SA\, 128 Greenhill Road\,
 Unley\, SA\, 5061\, Australia
GEO:-34.9601578;138.60864300000003
X-APPLE-STRUCTURED-LOCATION;VALUE=URI;X-ADDRESS=128 Greenhill Road\,
 Unley\, SA\, 5061\, Australia;X-APPLE-RADIUS=100;X-TITLE=Association of
 Independent Schools of SA:geo:-34.9601578,138.60864300000003
END:VEVENT
BEGIN:VTIMEZONE
TZID:Australia/Adelaide
X-LIC-LOCATION:Australia/Adelaide
BEGIN:DAYLIGHT
DTSTART:20201004T030000
TZOFFSETFROM:+0930
TZOFFSETTO:+1030
TZNAME:ACDT
END:DAYLIGHT
END:VTIMEZONE
END:VCALENDAR