BEGIN:VCALENDAR
VERSION:2.0
PRODID:-//wp-events-plugin.com//7.2.3.1//EN
TZID:Australia/Adelaide
X-WR-TIMEZONE:Australia/Adelaide
BEGIN:VEVENT
UID:480@ais.sa.edu.au
DTSTART;TZID=Australia/Adelaide:20210914T160000
DTEND;TZID=Australia/Adelaide:20210914T173000
DTSTAMP:20210817T045340Z
URL:https://www.ais.sa.edu.au/events/legal-series-legal-obligations-termin
 ating-students-enrolment/
SUMMARY:Legal Series: Legal Obligations When Terminating a Student’s
 Enrolment
DESCRIPTION:The enrolment contract between a school and parents is a
 legally binding document. In the event of disputes\, such as a potential
 termination of an enrolment\, it is vital that its terms clearly outline
 the steps that the School will take to fairly and appropriately manage this
 situation.\n\n&nbsp\;\n\nDelivery mode: Zoom - A Zoom link will be sent
 closer to the event.\n\nPresenter: Sonia Albertini\n\n&nbsp\;\n\nPlease see
 the AISSA’s Video Conferencing Collection Notice and Video Conferencing
 Privacy Disclosure Statement for information about the AISSA’s collection
 of personal information through video conferencing.\n\n&nbsp\;\n\nFor
 registration enquiries please contact Sonia Harrison.
CATEGORIES:Leadership and Coaching,Professional Learning
END:VEVENT
BEGIN:VTIMEZONE
TZID:Australia/Adelaide
X-LIC-LOCATION:Australia/Adelaide
BEGIN:STANDARD
DTSTART:20210404T020000
TZOFFSETFROM:+1030
TZOFFSETTO:+0930
TZNAME:ACST
END:STANDARD
END:VTIMEZONE
END:VCALENDAR