BEGIN:VCALENDAR
VERSION:2.0
PRODID:-//wp-events-plugin.com//7.2.3.1//EN
TZID:Australia/Adelaide
X-WR-TIMEZONE:Australia/Adelaide
BEGIN:VEVENT
UID:902@ais.sa.edu.au
DTSTART;TZID=Australia/Adelaide:20250226T090000
DTEND;TZID=Australia/Adelaide:20250226T123000
DTSTAMP:20250224T230543Z
URL:https://www.ais.sa.edu.au/events/leading-and-managing-an-ai-strategy-i
 n-secondary-schools/
SUMMARY:Leading and Managing an AI Strategy in Secondary Schools
DESCRIPTION:Lead and navigate the complex learning landscape in an age
 where Artificial Intelligence seems to provide the easy answer.\n\nDesigned
 for: Principals\, Heads of Schools and Curriculum/Learning Leaders.\n\nYour
 commitment: 7 contact hours plus any required reading.\n\nAITSL
 Professional Standards for Teachers: Focus areas 1.2\, 1.5\, 3.2\, 3.6\,
 4.5\, 6.4 and 7.4.\n\nDelivery mode: 2 x face-to-face
 workshops.\n\nPresented by: Adrian Cotterell\, Education
 Consultant.\n\nPrice: $300.00 per person (GST inclusive).\n\nKey Dates: By
 registering for this series\, you are committing to attend the following
 sessions.\n\n26 February 2025\, 9:00am-12:30pm\n5 June 2025\,
 1:30pm-5:00pm\n\nLocation: AISSA\, 128 Greenhill Road\, Unley SA
 5061.\n\nRegistration closes: 19 February 2025 at 5:00pm.\n\nProgram
 Overview: Join creator of the Traffic Light Model for AI Adrian Cotterell
 who will work with you to create and manage a vision for AI use in your
 school. This two-part series will focus on strategically leading a
 school-wide approach to AI as part of a learning and assessment approach.
 When expert teachers are equipped with a strong knowledge of how students
 learn\, and the current strengths/ limitations of AI technology\, they can
 make informed choices for when to integrate this technology into their
 teaching and assessment practices. Participants will directly engage with
 Generative AI tools.\n\n 	Consider AI through the lens of the thinking and
 learning process\, not just academic integrity.\n 	Interrogate how this
 emerging technology can both hinder and enhance the learning process.\n
 	Consider a consistent\, structured AI approach to assessment across a
 secondary school context.\n 	Proactively lead and respond to both the
 challenges and opportunities this emerging technology can
 bring.\n\nEnquiries: please contact Keira Brault.\n\nTerms and Conditions:
 Registration for this series will incur the fee detailed above. This fee
 will be invoiced after the event and is payable unless written notice of
 cancellation is received seven or more days prior to the event.  See the
 AISSA’s Professional Learning Terms and Conditions for the full
 registration terms and conditions including the cancellation policy.
CATEGORIES:Curriculum, Pedagogy and Assessment,Leadership and
 Coaching,Professional Learning
LOCATION:Association of Independent Schools of SA\, 128 Greenhill Road\,
 Unley\, SA\, 5061\, Australia
GEO:-34.9601578;138.60864300000003
X-APPLE-STRUCTURED-LOCATION;VALUE=URI;X-ADDRESS=128 Greenhill Road\,
 Unley\, SA\, 5061\, Australia;X-APPLE-RADIUS=100;X-TITLE=Association of
 Independent Schools of SA:geo:-34.9601578,138.60864300000003
END:VEVENT
BEGIN:VTIMEZONE
TZID:Australia/Adelaide
X-LIC-LOCATION:Australia/Adelaide
BEGIN:DAYLIGHT
DTSTART:20241006T030000
TZOFFSETFROM:+0930
TZOFFSETTO:+1030
TZNAME:ACDT
END:DAYLIGHT
END:VTIMEZONE
END:VCALENDAR