BEGIN:VCALENDAR
VERSION:2.0
PRODID:-//wp-events-plugin.com//7.2.3.1//EN
TZID:Australia/Adelaide
X-WR-TIMEZONE:Australia/Adelaide
BEGIN:VEVENT
UID:462@ais.sa.edu.au
DTSTART;TZID=Australia/Adelaide:20210621T090000
DTEND;TZID=Australia/Adelaide:20210621T130000
DTSTAMP:20210113T050225Z
URL:https://www.ais.sa.edu.au/events/leadership-21st-century-leading-chang
 e-innovation-session-2-4/
SUMMARY:Leadership for the 21st Century: Leading Change and Innovation\,
 session 2 of 4
DESCRIPTION:In 2021 the AISSA is offering a bespoke leadership program
 focusing on leadership for the 21st Century. Leaders will be supported to
 undertake leadership learning\, context mapping\, organisational analysis
 and change\, visioning\, implementation and scaling of their own
 school-based project related to their current role and strategic focus. The
 program provides participants with a practical and lived experience of
 leading change that is closely linked to current research\, leadership
 theory and their daily work. It focuses on the ways leaders can create a
 culture that welcomes innovation\, change and renewal and strategies to
 gain commitment and buy in from staff.\n\nA focus on personal leadership
 growth and development including self-awareness\, adaptive capacity and
 agility underpins the program.\n\nAt a glance\n\n 	For school leaders at
 all levels who have the capacity to influence and lead innovation and
 change\n 	Four network days per year\n 	Building the leadership and process
 capacity for school innovation and change\n 	Connects you to the network\,
 skills and processes to lead your own school’s strategic innovation
 vision\n\nModules\n\n 	Leading Innovation and change: Education 4.0\n
 	Organisational Change\n 	Organisational Culture\n 	Innovation and Scaling
 Strategy\n 	Adaptive Leadership\n\nSessions in this series:\n16 March\,
 9.00 am – 1.00 pm\n21 June\, 9.00 am – 1.00 pm\n24 August\, 9.00 am –
 1.00 pm\n20 October\, 9.00 am – 1.00 pm\n\n&nbsp\;\n\nTarget audience:
 Aspiring\, middle\, senior leaders and leadership teams.\n\nDelivery mode:
 face to face\n\nPresenter: Mary Hudson\, AISSA\n\n&nbsp\;\n\nIMPORTANT
 NOTICE: \n\nDue to current COVID-19 restrictions the AISSA is required
 to enforce set limits on the number of attendees for this event based on
 social distancing and maximum density rules.  To secure your place please
 complete the registration as attendance at the AISSA office without a
 confirmed place may result in being turned away if the event is at
 capacity.\n\nFor registration enquiries please contact Deb Virgo.\n\nThere
 is no on-site parking available.  For parking options please refer to
 the parking map.  Tram stop #1 Greenhill Road is a 6-minute walk away.
CATEGORIES:Leadership and Coaching,Professional Learning
LOCATION:Association of Independent Schools of SA\, 128 Greenhill Road\,
 Unley\, SA\, 5061\, Australia
GEO:-34.9601578;138.60864300000003
X-APPLE-STRUCTURED-LOCATION;VALUE=URI;X-ADDRESS=128 Greenhill Road\,
 Unley\, SA\, 5061\, Australia;X-APPLE-RADIUS=100;X-TITLE=Association of
 Independent Schools of SA:geo:-34.9601578,138.60864300000003
END:VEVENT
BEGIN:VTIMEZONE
TZID:Australia/Adelaide
X-LIC-LOCATION:Australia/Adelaide
BEGIN:STANDARD
DTSTART:20210404T020000
TZOFFSETFROM:+1030
TZOFFSETTO:+0930
TZNAME:ACST
END:STANDARD
END:VTIMEZONE
END:VCALENDAR