BEGIN:VCALENDAR
VERSION:2.0
PRODID:-//wp-events-plugin.com//7.2.3.1//EN
TZID:Australia/Adelaide
X-WR-TIMEZONE:Australia/Adelaide
BEGIN:VEVENT
UID:989@ais.sa.edu.au
DTSTART;TZID=Australia/Adelaide:20260817T090000
DTEND;TZID=Australia/Adelaide:20260818T160000
DTSTAMP:20251126T040056Z
URL:https://www.ais.sa.edu.au/events/lead-through-coaching-an-introduction
 -to-leadership-coaching/
SUMMARY:Lead Through Coaching: An Introduction to Leadership Coaching
DESCRIPTION:Designed for principals\, senior and
 middle leaders\, aspiring coaches\, and managers of teams\, this two-day
 program builds coaching capability through the GROWTH framework\,
 essential skills and a coaching Way of Being. Participants will develop
 a coaching mindset\, apply techniques in real scenarios\, and integrate
 coaching into their leadership style empowering them to inspire teams\,
 drive performance\, and lead with impact \n\nYour commitment: 14 contact
 hours plus any required reading.\n\nAITSL Professional Standards for
 Teachers: Focus areas 6.1\, 6.2\, 6.3 and 7.1.\n\nDelivery mode: 2 x
 face-to-face sessions.\n\nPresented by: Av Swami\, Director and Grady
 Scheiblehner\, Consultant\, CCSolutions\, the exclusive licensed provider
 of GCI and ICG programs and services in WA\, SA &amp\;
 NT.\n\nPrice: $1\,100.00 per person (GST inclusive).\n\nDate: By
 registering for this series\, you are committing to attend the following
 sessions:\n\n17 August 2026\, 9:00am-4:00pm\n18 August 2026\,
 9:00am-4:00pm\n\nLocation: AISSA\, 128 Greenhill Road\, Unley SA
 5061.\n\nRegistration closes: 10 August 2026 at 5:00pm.\n\nProgram
 Overview: Join this engaging and practical two-day course designed to
 deepen your understanding of effective coaching
 practice. You will explore three foundational elements: \n\n 	the
 GROWTH conversational framework\n 	essential coaching skills\n 	a coaching
 Way of Being.\n\nFacilitated by Av Swami and Grady Scheiblehner from
 CCSolutions (Australia’s exclusive licensed provider of GCI and ICG
 programs) This program will equip you with the awareness\, skills and
 confidence to engage in coaching conversations and apply a coaching
 approach across a variety of professional contexts. \n\nYou will also
 explore coaching as a leadership stance\, with a particular focus on
 enhancing feedback conversations and other leadership interactions. This
 professional learning is ideal for principals\, senior and middle
 leaders\, coaches and mentors\, as well as management and administration
 staff who lead teams. \n\nProgram Lead: please contact Lynda
 Secombe\n\nTerms and Conditions: Registration for this event will incur
 the fee detailed above. This fee will be invoiced after the event and is
 payable unless written notice of cancellation is received seven or more
 days prior to the event.  See the AISSA’s Professional Learning Terms
 and Conditions for the full registration terms and conditions including
 the cancellation policy.
CATEGORIES:Leadership and Coaching,Professional Learning,School
 Operations,Wellbeing and Inclusion
LOCATION:Association of Independent Schools of SA\, 128 Greenhill Road\,
 Unley\, SA\, 5061\, Australia
GEO:-34.9601578;138.60864300000003
X-APPLE-STRUCTURED-LOCATION;VALUE=URI;X-ADDRESS=128 Greenhill Road\,
 Unley\, SA\, 5061\, Australia;X-APPLE-RADIUS=100;X-TITLE=Association of
 Independent Schools of SA:geo:-34.9601578,138.60864300000003
END:VEVENT
BEGIN:VTIMEZONE
TZID:Australia/Adelaide
X-LIC-LOCATION:Australia/Adelaide
BEGIN:STANDARD
DTSTART:20260405T020000
TZOFFSETFROM:+1030
TZOFFSETTO:+0930
TZNAME:ACST
END:STANDARD
END:VTIMEZONE
END:VCALENDAR