BEGIN:VCALENDAR
VERSION:2.0
PRODID:-//wp-events-plugin.com//7.2.3.1//EN
TZID:Australia/Adelaide
X-WR-TIMEZONE:Australia/Adelaide
BEGIN:VEVENT
UID:816@ais.sa.edu.au
DTSTART;TZID=Australia/Adelaide:20240829T090000
DTEND;TZID=Australia/Adelaide:20240829T153000
DTSTAMP:20231205T085850Z
URL:https://www.ais.sa.edu.au/events/instructional-coaching-series-coachin
 g-in-action-at-brighton-grammar-school/
SUMMARY:Instructional Coaching Series: Coaching in Action at Brighton
 Grammar School
DESCRIPTION:Coaching in Action days provide opportunities for coaches and
 coaching leads to see coaching in action in a school environment and hear
 from leading coaches who have worked over time to build a coaching culture
 in their schools. Three Coaching in Action opportunities will be provided
 in 2024 – one at Westminster School\, Marion in Term 2 and two at
 Brighton Grammar School\, Melbourne during Term 3\, on 29 and 30
 August.\n\nDr Mark Dowley will lead this day at Brighton Grammar School\,
 Melbourne. It is designed to show the systems and structures that support a
 coaching program in a school. Mark will outline the history of how a
 coaching approach has been successfully implemented at his school\,
 including the coaching pillars that underpin their purpose and philosophy
 and an outline of their coaching cycle.  Coaching simulation\, viewing of
 classes to practice data collection and reflecting on a whole coaching
 cycle will take place. Resources for later reference will also be
 provided.\n\nParticipants will be responsible for arranging their own
 travel and accommodation requirements for this professional learning day in
 Melbourne.\n\nEvent date: 29/08/2024\n\nEvent time:
 9.00am-3.30pm\n\nAudience: Coaches\, School leads\, those interested in
 learning more about coaching\n\nDelivery mode: face-to-face\n\nPresenter:
 Dr Mark Dowley\n\nPrice: $480.00 (GST inclusive) per person.\n\nBookings
 for this event close at 5.00pm on 15/08/2024.\n\nSee the AISSA Professional
 Learning Terms and Conditions for the full registration terms and
 conditions including the cancellation policy.\n\nFor registration enquiries
 please contact Keira Brault.\n\n&nbsp\;
CATEGORIES:Professional Learning
LOCATION:Brighton Grammar School\, 90 Outer Crescent\, Brighton\,
 Victoria\, 3186\, Australia
X-APPLE-STRUCTURED-LOCATION;VALUE=URI;X-ADDRESS=90 Outer Crescent\,
 Brighton\, Victoria\, 3186\, Australia;X-APPLE-RADIUS=100;X-TITLE=Brighton
 Grammar School:geo:0,0
END:VEVENT
BEGIN:VTIMEZONE
TZID:Australia/Adelaide
X-LIC-LOCATION:Australia/Adelaide
BEGIN:STANDARD
DTSTART:20240407T020000
TZOFFSETFROM:+1030
TZOFFSETTO:+0930
TZNAME:ACST
END:STANDARD
END:VTIMEZONE
END:VCALENDAR