BEGIN:VCALENDAR
VERSION:2.0
PRODID:-//wp-events-plugin.com//7.2.3.1//EN
TZID:Australia/Adelaide
X-WR-TIMEZONE:Australia/Adelaide
BEGIN:VEVENT
UID:408@ais.sa.edu.au
DTSTART;TZID=Australia/Adelaide:20210531T153000
DTEND;TZID=Australia/Adelaide:20210531T163000
DTSTAMP:20201202T040313Z
URL:https://www.ais.sa.edu.au/events/information-session-transitioning-nap
 lan-online-2022/
SUMMARY:Information Session: Transitioning to NAPLAN Online in 2022
DESCRIPTION:Ministers have agreed that all schools will transition to the
 online mode of NAPLAN by 2022.  In order to ensure readiness\, all schools
 yet to transition are required to participate in the Term 3 activity\, the
 School Readiness Test (SRT).\n\nThis session\, delivered via AISSA Zoom
 conferencing\, will provide critical information to schools about the SRT\,
 and the preparations the school needs to plan for and undertake at their
 school in Term 3 during weeks 5 and 6 (SRT dates to be confirmed at a
 national level).\n\nTarget audience: Principals\, School Leaders and NAPLAN
 Coordinators\n\nDelivery mode: Zoom\n\nPresenter: Lynda Secombe\,
 AISSA\n\n&nbsp\;\n\nFor registration enquiries please contact Emily
 Metelmann.\n\nPlease see the AISSA’s Video Conferencing Collection Notice
 and Video Conferencing Privacy Disclosure Statement for information about
 the AISSA’s collection of personal information through video
 conferencing.\n\nA Zoom link will be sent closer to the event.
CATEGORIES:Professional Learning
END:VEVENT
BEGIN:VTIMEZONE
TZID:Australia/Adelaide
X-LIC-LOCATION:Australia/Adelaide
BEGIN:STANDARD
DTSTART:20210404T020000
TZOFFSETFROM:+1030
TZOFFSETTO:+0930
TZNAME:ACST
END:STANDARD
END:VTIMEZONE
END:VCALENDAR